Workbook
Name AnnualPremAfterIncrease: Input!$E$25
Name AnnualPremBeforeIncrease: Input!$E$22
Name ComprehensiveBenefit: Input!$E$27
Name DayOfBirth: Input!$E$11
Name DayOfIssue: Input!$E$17
Name FacilityCareBenefit: Input!$E$28
Name FinalYear: Input!$J$31
Name IndicatorLifePay: Input!$J$29
Name IndicatorLimitedPay: Input!$J$30
Name LifetimePay: Input!$F$19
Name LimitedPay: Input!$F$31
Name MonthlyPremAfterIncrease: Input!$E$24
Name MonthlyPremBeforeIncrease: Input!$E$21
Name MonthOfBirth: Input!$F$11
Name MonthOfIssue: Input!$F$17
Name Name: Input!$E$8
Name UptoYear: Input!$G$31
Name WeekConverter: Documentation!$H$43:$O$5043
Name YearOfBirth: Input!$G$11
Name YearOfIssue: Input!$G$17

Sheet User Guide
A1: SUN LIFE FINANCIAL
A2: LTCI Premium Recovery Tool
A3: Helping you demonstrate the value of LTCI coverage.
A8: Using the premium recovery tool.
C9: This tool was designed to help you have conversations with your clients about the value of retaining their LTCI coverage. The premium recovery tool and the resulting output are intended for demonstration only. The values are not guaranteed.
C10: For questions on using the tool please contact your Sales Support Team.
A14: Why use the tool
A36: How to use the tool
A49: Completing the input tab:
A73: Interpreting the Output information:
A82: How to read the premium recovery table:
A106: How to print and save the results:

Sheet Input
A1: SUN LIFE FINANCIAL
A2: LTCI Premium Recovery Tool
A3: Helping you demonstrate the value of LTCI coverage
A4: Required input fields are highlighted in yellow.
A5: The information required to complete this tool can be found in your copy of the policyholder letter.
A7: A. Personal Information
B8: 1 | C8: Name of insured person
E10: Day | F10: Month | G10: Year | K10: =IF((MonthOfBirth=2)*AND(MOD(YearOfBirth,4)<>0)*AND(DayOfBirth=29),"ERROR: The values entered under 'Month' and 'Day' are inconsistent.","")
B11: 2 | C11: Date of birth | E11: 1 | F11: 1 | G11: 1960 | K11: =IF(OR(MonthOfBirth=2,MonthOfBirth=4,MonthOfBirth=6,MonthOfBirth=9,MonthOfBirth=11)*AND(DayOfBirth=31),"ERROR: The values entered under 'Month' and 'Day' are inconsistent.","")
B13: 3 | C13: Sex at birth | E13: Male
K14: =IF(OR(MonthOfBirth=2)*AND(DayOfBirth=30),"ERROR: The values entered under 'Month' and 'Day' are inconsistent.","") | L14: Premium Payment Period
A15: B. Policy Information | K15: =IF(DATE(YearOfBirth,MonthOfBirth,DayOfBirth)>DATE(YearOfIssue,MonthOfIssue,DayOfIssue),"ERROR: Policy start date cannot be before date of birth","") | L15: Clarica (Aug. 1999 to Sep. 18, 2005) | M15: Sun 2005 (Sep. 19, 2005 to Dec. 6, 2013) | N15: Sun 2013 (Dec. 7, 2013 to Present)
E16: Day | F16: Month | G16: Year | K16: =IF((MonthOfIssue=2)*AND(MOD(YearOfIssue,4)<>0)*AND(DayOfIssue=29),"ERROR: The values entered under 'Month' and 'Day' are inconsistent.","") | L16: Lifetime | M16: Lifetime | N16: Lifetime
B17: 3 | C17: Policy start date | E17: 1 | F17: 1 | G17: 2000 | K17: =IF(OR(MonthOfIssue=2,MonthOfIssue=4,MonthOfIssue=6,MonthOfIssue=9,MonthOfIssue=11)*AND(DayOfIssue=31),"ERROR: The values entered under 'Month' and 'Day' are inconsistent.","") | L17: 20-pay | M17: 20-pay | N17: 25-pay
K18: =IF(OR(MonthOfIssue=2)*AND(DayOfIssue=30),"ERROR: The values entered under 'Month' and 'Day' are inconsistent.","") | L18: 15-pay | M18: Pay to age 55 | N18: Pay to age 65
B19: 4 | C19: Premium payment period | E19: Lifetime
K20: =IF(OR(SUM(E21:E22)=0,SUM(E24:E25)=0),"ERROR: Total premium cannot be zero","")
B21: 5 | C21: Current premium before increase | F21: Enter monthly premium OR | K21: =IF(AND(MonthlyPremBeforeIncrease>0,AnnualPremBeforeIncrease>0),"ERROR: Enter either monthly premium or annual premium but not both","")
C22: [Enter monthly or annually but not both] | E22: 1000 | F22: Enter annual premium | K22: =IF(AND(MonthlyPremBeforeIncrease>0,AnnualPremAfterIncrease>0),"ERROR: Enter either monthly premium or annual premium but not both","")
K23: =IF(AND(AnnualPremBeforeIncrease>0,MonthlyPremAfterIncrease>0),"ERROR: Enter either monthly premium or annual premium but not both","")
B24: 6 | C24: Premium after increase | F24: Enter monthly premium OR | K24: =IF(AND(MonthlyPremAfterIncrease>0,AnnualPremAfterIncrease>0),"ERROR: Enter either monthly premium or annual premium but not both","")
C25: [Enter monthly or annually but not both] | E25: 1200 | F25: Enter annual premium
B27: 7 | C27: Total weekly benefit [weekly benefit amount + inflation protection increase] | E27: 100 | F27: Base / Comprehensive | K27: =IF(SUM(E27:E28)=0,"ERROR: Total weekly benefits cannot be zero","")
F28: Facility Care (Not applicable for Clarica and Sun 2013 LTCI policies) | K28: =IF(SUM(E27:E28)>2300,"ERROR: Total weekly benefits cannot exceed $2,300","")
I29: Lifetime pay indicator | J29: =IF($E$19="lifetime",1,0) -> 1
B30: 8 | C30: Benefit payment period | E30: Unlimited | F30: =VLOOKUP(E30,Documentation!$F$44:$G$48,2,FALSE) -> 9999 | I30: Limited pay indicator | J30: =IF($E$19="lifetime",0,1) -> 0
C31: =IF(ComprehensiveBenefit=0,"For Facility Care","For Base / Comprehensive") -> For Base / Comprehensive | I31: Limited pay payable to | J31: =VLOOKUP(E19,$I$33:$J$38,2,FALSE) -> 0
C33: When all the input fields are entered, please go to the 'Results' tab. | I33: Lifetime
I34: 15-pay | J34: =YearOfIssue+14 -> 2014
I35: 20-pay | J35: =YearOfIssue+19 -> 2019
I36: 25-pay | J36: =YearOfIssue+24 -> 2024
I37: Pay to Age 55 | J37: =MAX(YearOfBirth+55,2021) -> 2021
I38: Pay to Age 65 | J38: =MAX(YearOfBirth+65,2021) -> 2025

Sheet Results
A1: SUN LIFE FINANCIAL
A2: LTCI Premium Recovery Tool | L2: =IF('Accumulated Premium'!Z5=TRUE,'Accumulated Premium'!X5,IF('Accumulated Premium'!Z6=TRUE,'Accumulated Premium'!X6,'Accumulated Premium'!X7)) -> Clarica
A3: Demonstrating the value of long term care insurance coverage | M3: Clarica | N3: Sun 2005 | O3: Sun 2013
M4: Clarica | N4: Sun 2005 | O4: Sun 2013
M5: Lifetime | N5: Lifetime | O5: Lifetime
B6: Name of insured person | E6: =Name -> 0 | M6: 20-pay | N6: 20-pay | O6: 25-pay
B7: Date of birth | E7: =DATE(YearOfBirth,MonthOfBirth,DayOfBirth) -> 21916 | M7: 15-pay | N7: Pay to age 55 | O7: Pay to age 65
B8: Policy start date | E8: =DATE(YearOfIssue,MonthOfIssue,DayOfIssue) -> 36526 | M8: Issue Age | N8: =DATEDIF(E7,E8,"y") -> 40
B9: Premium payment period | E9: =Input!E19 -> Lifetime | M9: Premium increase effective date | N9: =IF(AND(L2="Clarica", E9<>"Lifetime"), "Policy Is Paid Up", IF(L2="Clarica",L15,IF(L2="Sun 2005",N21,O21))) -> 46388
B10: Annual premium before increase | E10: =IF(AnnualPremBeforeIncrease>0,AnnualPremBeforeIncrease,MonthlyPremBeforeIncrease*12) -> 1000 | L10: Clarica Series
B11: Annual premium after increase | E11: =IF(AnnualPremAfterIncrease>0,AnnualPremAfterIncrease,MonthlyPremAfterIncrease*12) -> 1200 | L11: paid up calc | N11: =E8 -> 36526
B12: Weekly benefit 1 | E12: =ComprehensiveBenefit -> 100 | F12: =IF(Input!$E$28>0,"Comprehensive","") | L12: =IF(E9=M6,20) -> FALSE | M12: Issue Day | N12: =DAY(N11) -> 1
E13: =FacilityCareBenefit -> 0 | F13: =IF(Input!$E$28>0,"Facility Care","") | L13: =IF(AND(L12<>FALSE,N14+L12<=2021,N13<8),"Policy Is Paid Up") -> FALSE | M13: Issue Month | N13: =MONTH(N11) -> 1
B14: Benefit payment period | E14: =Input!E30 -> Unlimited | L14: =DATE(N14+25,N13,N12) -> 45658 | M14: Issue Year | N14: =YEAR(N11) -> 2000
L15: =IF(OR(E9=M7,L13<>FALSE, E9=M6, L12<>FALSE),"Policy Is Paid Up",DATE(IF(N13<8,2027,2026),N13,N12)) -> 46388 | N15: 2005 Series | O15: 2013 Series
B16: Premium increase effective date | E16: =IF(AND(L2="Sun 2005", N24<>FALSE), N24, N9) -> 46388 | N16: =IF(N11<DATE(2012,1,1),IF(N13<8,2027,2026),N14+15) -> 2027 | O16: =IF(2021-N14<5,N14+10,IF(N13<8,2027,2026)) -> 2027
B17: Age as of the premium increase effective date | E17: =IF(E16="Policy Is Paid Up","Policy Is Paid Up",INT(DAYS360($E$7, $E$16)/360)) -> 67
N18: =N14+25 -> 2025 | O18: =N14+25 -> 2025
B19: Number of annual premiums paid prior to the premium increase effective date | E19: =IF(AND(E16="Policy Is Paid Up",E9="20-pay"),20,IF(AND(E16="Policy Is Paid Up",E9="15-pay"),15,INT(DAYS360($E$8,$E$16)/360))) -> 27 | N19: =IF(N11<DATE(2012,1,1),IF(N13<8,DATE(2027,N13,N12),DATE(2026,N13,N12)),DATE(N14+15,N13,N12)) -> 46388 | O19: =IF((2026-N14)>=5,DATE(O16,N13,N12),DATE((N14+10),N13,N12)) -> 46388
B20: Estimated premiums paid prior to the premium increase effective date 2 | E20: ='Accumulated Premium'!V26 -> 18809.524 | N20: =IF(N18<YEAR(N19), TRUE,FALSE) -> TRUE | O20: =IF(O18<YEAR(O19),TRUE, FALSE) -> TRUE
B21: =IF(E17<79,"Average age at claim for LTCI policyholders in USA and Canada","") -> Average age at claim for LTCI policyholders in USA and Canada | E21: =IF(E17<79,79,"") -> 79 | N21: =IF(E9<>N7,IF(N20=FALSE,N19,DATE(N14+25,N13,N12)),IF(AND(2026-N14+N8>55,E9=N7),"NA",MIN((DATE(55-N8+N14,N13,N12)),(DATE(N16,N13,N12))))) -> 45658 | O21: =IF(E9<>O7,IF(O20=FALSE,IF((2021-N14)>=5,DATE(O16,N13,N12),DATE((N14+10),N13,N12)),DATE(N14+25,N13,N12)),IF(AND(2026-N14+N8>65,E9=O7),"NA",MIN((DATE(65-N8+N14,N13,N12)),(DATE(O16,N13,N12))))) -> 45658
B22: =IF(E17<79,"(Source: Society of Actuaries LTCI Intercompany Study 1984-2007)","") -> (Source: Society of Actuaries LTCI Intercompany Study 1984-2007)
B23: Important information about this report | N23: Sun 2005 Paid-up indicator
B24: Not every detail about your policy can be included in calculating our estimates. This tool is designed to help you see the value of your policy but is not a promise of future experience. | N24: =IF(L2="Sun 2005", IF(AND(E9="20-pay", YEARFRAC(E8,N9, 3)>20), "Policy Is Paid Up", IF(AND(E9="Pay to age 55", YEARFRAC(E7, N9)>55), "Policy Is Paid Up", FALSE))) -> FALSE
B25: Here is a list of assumptions:
B26: 1 | C26: Weekly Benefit: If your policy includes both a "Facility Care" benefit and a "Comprehensive Care" benefit, we have used only the value of the comprehensive weekly benefit to estimate the premium recovery because we cannot predict at what point facility care would be elected.
B27: 2 | C27: Estimated Premiums Paid: To estimate the premiums paid prior to the premium increase effective date we have assumed you have paid all required premiums to date and have not had premiums waived at any time.
B28: 3 | C28: Estimated Total Premiums Paid: The estimate of total premiums paid before you claim:
D29: - Includes premiums paid for benefits such as return of premium on death (ROPD) and inflation protection benefit.
D30: - Assumes premiums do not change in the future.
B31: 4 | C31: Estimated Premium Recovery Period: To estimate the premium recovery period we have assumed:
D32: - The waiting period has been met.
D33: - No weekly benefits have been paid.
D34: - Premiums do not change in the future.
D35: - The weekly benefit amount does not include future increases from inflation protection benefits.
D36: - In some cases the benefit period ends before all premiums are recovered.
D37: - The calculation does not take into consideration the time value of money (potential investment income).
H38: =TEXT(G38,"#,###")
C39: Assumed Age when you make an eligible claim | D39: Estimated total premiums paid before you claim3 | E39: The estimated total premiums you have paid will be recovered in the following number of weeks.4
E40: Weeks | F40: Equivalent in years and months
...

Sheet Accumulated Premium
J1: "Current Premium" Breakdown
J2: Limited Pay | O2: Life Pay
A3: Clarica (Aug. 1999 to Sep. 18, 2005) | J3: Issue Age | O3: Issue Age
A4: Issue Year | B4: 2016 Reprice Effective year | C4: 2021 Reprice Effective year | D4: Reprice Effective Date | E4: Years of Payment before 2016 Reprice | F4: Years of Premium between 2016-2021 reprices | G4: year of premium between 2021 - 2026 reprices | H4: Number of annual premiums paid prior to the premium increase effective date | J4: 21-60 | K4: 61-65 | L4: 66-70 | M4: 71-75 | N4: 76-80 | O4: 21-60 | P4: 61-65 | Q4: 66-70 | R4: 71-75 | S4: 76-80 | U4: Premium payment period | V4: =Results!E9 -> Lifetime
A5: 1999 | B5: 2016 | C5: 2021 | D5: 2022 | E5: =2016-A5 -> 17 | H5: =$V$8 -> 27 | J5: 0.25 | K5: 0.25 | L5: 0.25 | M5: 0.15 | N5: 0.1 | O5: 0.2 | P5: 0.2 | Q5: 0.2 | R5: 0.1 | S5: 0.05 | U5: Date of birth | V5: =Results!E7 -> 21916 | X5: Clarica | Y5: 38613 | Z5: =V6<Y5 -> TRUE
A6: 2000 | B6: 2016 | C6: 2021 | D6: 2022 | E6: =2016-A6 -> 16 | H6: =$V$8 -> 27 | J6: 0.25 | K6: 0.25 | L6: 0.25 | M6: 0.15 | N6: 0.1 | O6: 0.2 | P6: 0.2 | Q6: 0.2 | R6: 0.1 | S6: 0.05 | U6: Policy start date | V6: =Results!E8 -> 36526 | X6: Sun 2005 | Y6: 41614 | Z6: =V6<Y6 -> TRUE
A7: 2001 | B7: 2016 | C7: 2021 | D7: 2022 | E7: =2016-A7 -> 15 | H7: =$V$8 -> 27 | J7: 0.25 | K7: 0.25 | L7: 0.25 | M7: 0.15 | N7: 0.1 | O7: 0.2 | P7: 0.2 | Q7: 0.2 | R7: 0.1 | S7: 0.05 | U7: Premium increase effective date | V7: =Results!E16 -> 46388 | X7: Sun 2013
A8: 2002 | B8: 2016 | C8: 2021 | D8: 2022 | E8: =2016-A8 -> 14 | H8: =$V$8 -> 27 | J8: 0.25 | K8: 0.25 | L8: 0.25 | M8: 0.15 | N8: 0.1 | O8: 0.2 | P8: 0.2 | Q8: 0.2 | R8: 0.1 | S8: 0.05 | U8: Number of annual premiums paid prior to the premium increase effective date | V8: =Results!E19 -> 27
A9: 2003 | B9: 2016 | C9: 2021 | D9: 2022 | E9: =2016-A9 -> 13 | H9: =$V$8 -> 27 | J9: 0.25 | K9: 0.25 | L9: 0.25 | M9: 0.15 | N9: 0.1 | O9: 0.2 | P9: 0.2 | Q9: 0.2 | R9: 0.1 | S9: 0.05 | U9: Current premium before increase | V9: =Results!E10 -> 1000
A10: 2004 | B10: 2016 | C10: 2021 | D10: 2022 | E10: =2016-A10 -> 12 | H10: =$V$8 -> 27 | J10: 0.25 | K10: 0.25 | L10: 0.25 | M10: 0.15 | N10: 0.1 | O10: 0.2 | P10: 0.2 | Q10: 0.2 | R10: 0.1 | S10: 0.05 | X10: Paid-up info | Y10: Year Paid-up
A11: 2005 | B11: 2016 | C11: 2021 | D11: 2022 | E11: =2016-A11 -> 11 | H11: =$V$8 -> 27 | J11: 0.25 | K11: 0.25 | L11: 0.25 | M11: 0.15 | N11: 0.1 | O11: 0.2 | P11: 0.2 | Q11: 0.2 | R11: 0.1 | S11: 0.05 | U11: Issue Age | V11: =DATEDIF(V5,V6,"y") -> 40 | X11: 15-pay | Y11: =YearOfIssue+15 -> 2015
A12: Sun 2005 (Sep. 19, 2005 to Dec. 6, 2013) | J12: 21-60 | K12: 61-65 | L12: 66-70 | M12: 71-75 | N12: 76-80 | O12: 21-60 | P12: 61-65 | Q12: 66-70 | R12: 71-75 | S12: 76-80 | U12: Series | V12: =IF(Z5=TRUE,X5,IF(Z6=TRUE,X6,X7)) -> Clarica | X12: 20-pay | Y12: =YearOfIssue+20 -> 2020
A13: 2005 | B13: 2016 | C13: 2021 | D13: 2022 | E13: =2016-A13 -> 11 | H13: =E13+F13 -> 11 | J13: 0.15 | K13: 0.1 | L13: 0.05 | M13: 0.05 | N13: 0.01 | O13: 0.1 | P13: 0.1 | Q13: 0.1 | R13: 0.05 | S13: 0.01 | U13: Payment Type | V13: =IF(Results!E9<>"Lifetime","Limited Pay","Life Pay") -> Life Pay | X13: 25-pay | Y13: =YearOfIssue+25 -> 2025
A14: 2006 | B14: 2016 | C14: 2021 | D14: 2022 | E14: =2016-A14 -> 10 | H14: =E14+F14 -> 10 | J14: 0.15 | K14: 0.1 | L14: 0.05 | M14: 0.05 | N14: 0.01 | O14: 0.1 | P14: 0.1 | Q14: 0.1 | R14: 0.05 | S14: 0.01 | U14: Gender | V14: =Input!E13 -> Male | X14: Pay to age 55 | Y14: =YEAR(V5)+55 -> 2015
A15: 2007 | B15: 2016 | C15: 2021 | D15: 2022 | E15: =2016-A15 -> 9 | H15: =E15+F15 -> 9 | J15: 0.15 | K15: 0.1 | L15: 0.05 | M15: 0.05 | N15: 0.01 | O15: 0.1 | P15: 0.1 | Q15: 0.1 | R15: 0.05 | S15: 0.01 | U15: Issue Year | V15: =YEAR(V6) -> 2000 | X15: Pay to age 65 | Y15: =YEAR(V5)+65 -> 2025
A16: 2008 | B16: 2016 | C16: 2021 | D16: 2022 | E16: =2016-A16 -> 8 | H16: =E16+F16 -> 8 | J16: 0.15 | K16: 0.1 | L16: 0.05 | M16: 0.05 | N16: 0.01 | O16: 0.1 | P16: 0.1 | Q16: 0.1 | R16: 0.05 | S16: 0.01 | U16: Year of Premium before 2016 Reprice | V16: =IF(V12="Sun 2013", 0, VLOOKUP(V12, $F$37:$I$39, 2)) -> 16 | X16: Lifetime | Y16: N/A
A17: 2009 | B17: 2016 | C17: 2021 | D17: 2022 | E17: =2016-A17 -> 7 | H17: =E17+F17 -> 7 | J17: 0.15 | K17: 0.1 | L17: 0.05 | M17: 0.05 | N17: 0.01 | O17: 0.1 | P17: 0.1 | Q17: 0.1 | R17: 0.05 | S17: 0.01 | U17: 2016 Premium Multiplier | V17: =IF(V12="Sun 2013",0,VLOOKUP(V11,'2016 Multiplier Table'!$A$1:$E$61,MATCH(V27,'2016 Multiplier Table'!$B$1:$E$1,0)+1)) -> 0.2
A18: 2010 | B18: 2016 | C18: 2021 | D18: 2022 | E18: =2016-A18 -> 6 | H18: =E18+F18 -> 6 | J18: 0.15 | K18: 0.1 | L18: 0.05 | M18: 0.05 | N18: 0.01 | O18: 0.1 | P18: 0.1 | Q18: 0.1 | R18: 0.05 | S18: 0.01 | U18: Premium before 2016 Increase | V18: =V22/(1+V17) -> 595.2381
A19: 2011 | B19: 2016 | C19: 2021 | D19: 2022 | E19: =2016-A19 -> 5 | H19: =E19+F19 -> 5 | J19: 0.15 | K19: 0.1 | L19: 0.05 | M19: 0.05 | N19: 0.01 | O19: 0.1 | P19: 0.1 | Q19: 0.1 | R19: 0.05 | S19: 0.01 | U19: Accumulated Premium Before 2016 | V19: =V18*V16 -> 9523.8095
A20: 2012 | B20: 2017 | C20: 2022 | D20: =B20+5 -> 2022 | E20: =2016-A20 -> 4 | H20: =E20+F20 -> 4 | J20: 0.15 | K20: 0.1 | L20: 0.05 | M20: 0.05 | N20: 0.01 | O20: 0.1 | P20: 0.1 | Q20: 0.1 | R20: 0.05 | S20: 0.01 | U20: Year of Premium between 2016-2021 | V20: =VLOOKUP(V12, $F$37:$I$39, 3) -> 6
A21: 2013 | B21: 2018 | C21: 2023 | D21: =B21+5 -> 2023 | E21: =2016-A21 -> 3 | H21: =E21+F21 -> 3 | J21: 0.15 | K21: 0.1 | L21: 0.05 | M21: 0.05 | N21: 0.01 | O21: 0.1 | P21: 0.1 | Q21: 0.1 | R21: 0.05 | S21: 0.01 | U21: 2021 Premium Multiplier | V21: =INDEX('2021 Multiplier Table'!B2:M61, MATCH('Accumulated Premium'!V11, '2021 Multiplier Table'!A2:A61, 0), MATCH('Accumulated Premium'!V12&" "&'Accumulated Premium'!V13&" "&V14, '2021 Multiplier Table'!B1:M1, 0)) -> 0.4
A22: Sun 2013 | U22: Premium before 2021 increase | V22: =V9/(1+V21) -> 714.28571
U23: Accumulated Premium Between 2016-2021 | V23: =V20*V22 -> 4285.7143
A24: 2013 | B24: N/A | C24: 2021 | E24: 0 | F24: =2021-A24 -> 8 | G24: 5 | H24: =$V$8 -> 27 | U24: Years of Premium between 2021-2026 Reprices | V24: =VLOOKUP(V12, $F$37:$I$39, 4) -> 5
A25: 2014 | B25: N/A | C25: 2021 | E25: 0 | F25: =2021-A25 -> 7 | G25: 5 | H25: =$V$8 -> 27 | U25: Accumulated Premium Between 2021-2026 | V25: =V24*V9 -> 5000
A26: 2015 | B26: N/A | C26: 2021 | E26: 0 | F26: =2021-A26 -> 6 | G26: 5 | H26: =$V$8 -> 27 | U26: Estimated premiums paid prior to the premium increase effective date | V26: =V25+V23+V19 -> 18809.524
A27: 2016 | B27: N/A | C27: 2021 | E27: 0 | F27: =2021-A27 -> 5 | G27: 5 | H27: =$V$8 -> 27 | U27: For vlookup | V27: =V12& " "&V13 -> Clarica Life Pay
A28: 2017 | B28: N/A | C28: 2022 | E28: 0 | F28: =2021-A28 -> 4 | G28: 5 | H28: =$V$8 -> 27 | U28: Paid up | V28: =IF(AND(V7="PolicyIs Paid Up",V4="20-pay"),20,15) -> 15
A29: 2018 | B29: N/A | C29: 2023 | E29: 0 | F29: =2021-A29 -> 3 | G29: 5 | H29: =$V$8 -> 27
A30: 2019 | B30: N/A | C30: 2024 | E30: 0 | F30: =2021-A30 -> 2 | G30: 5 | H30: =$V$8 -> 27
A31: 2020 | B31: N/A | C31: 2025 | E31: 0 | F31: =2021-A31 -> 1 | G31: 5 | H31: =$V$8 -> 27
A32: 2021 | B32: N/A | C32: 2026 | E32: 0 | F32: =2021-A32 -> 0 | G32: 5 | H32: =$V$8 -> 27
E33: Sun 2013 -> | F33: Years of premium before 2021 Reprice | G33: Years between 2021 & 2026 reprice
A36: Issue Year | B36: 2016 Reprice Effective year | C36: 2021 Reprice Effective Year | D36: 2026 Reprice Effective Year | E36: Paid-up year | F36: Series | G36: Years of premiums before 2016 reprice | H36: Years of premiums between 2016 - 2021 reprices | I36: Years of premiums between 2021 & 2026 Reprices | J36: Check: | T36: Check
A37: =YEAR(V6) -> 2000 | B37: 2016 | C37: =IF(MONTH(V6)<=7, 2022, 2021) -> 2022 | D37: =IF(C37=2021, 2026, C37+5) -> 2027 | E37: =VLOOKUP(Input!$E$19, 'Accumulated Premium'!$X$11:$Y$16, 2, ) -> N/A | F37: Clarica | G37: =B37-A37 -> 16 | H37: =C37-B37 -> 6 | I37: =D37-C37 -> 5 | J37: =SUM(G37:I37)=$V$8 -> TRUE | T37: =SUM(G37:I37)=$V$8 -> TRUE
A38: =YEAR(V6) -> 2000 | B38: =IF(A38<=2011, 2016, A38+5) -> 2016 | C38: =D38-5 -> 2022 | D38: =YEAR(V7) -> 2027 | E38: =VLOOKUP(Input!$E$19, 'Accumulated Premium'!$X$11:$Y$16, 2, ) -> N/A | F38: Sun 2005 | G38: =B38-A38 -> 16 | H38: =C38-B38 -> 6 | I38: =D38-C38 -> 5 | J38: =SUM(G38:I38)=$V$8 -> TRUE | T38: =SUM(G38:I38)=$V$8 -> TRUE
A39: =YEAR(V6) -> 2000 | B39: N/A | C39: =D39-5 -> 2022 | D39: =YEAR(V7) -> 2027 | E39: =VLOOKUP(Input!$E$19, 'Accumulated Premium'!$X$11:$Y$16, 2, ) -> N/A | F39: Sun 2013 | G39: N/A | H39: =C39-A39 -> 22 | I39: =D39-C39 -> 5 | J39: =SUM(G39:I39)=$V$8 -> TRUE | T39: =SUM(G39:I39)=$V$8 -> TRUE

Sheet 2016 Multiplier Table
A1: Issue Age | B1: Clarica Limited Pay | C1: Clarica Life Pay | D1: Sun 2005 Limited Pay | E1: Sun 2005 Life Pay
A2: 21 | B2: 0.25 | C2: 0.2 | D2: 0.15 | E2: 0.1
A3: 22 | B3: 0.25 | C3: 0.2 | D3: 0.15 | E3: 0.1
A4: 23 | B4: 0.25 | C4: 0.2 | D4: 0.15 | E4: 0.1
A5: 24 | B5: 0.25 | C5: 0.2 | D5: 0.15 | E5: 0.1
A6: 25 | B6: 0.25 | C6: 0.2 | D6: 0.15 | E6: 0.1
A7: 26 | B7: 0.25 | C7: 0.2 | D7: 0.15 | E7: 0.1
A8: 27 | B8: 0.25 | C8: 0.2 | D8: 0.15 | E8: 0.1
A9: 28 | B9: 0.25 | C9: 0.2 | D9: 0.15 | E9: 0.1
A10: 29 | B10: 0.25 | C10: 0.2 | D10: 0.15 | E10: 0.1
A11: 30 | B11: 0.25 | C11: 0.2 | D11: 0.15 | E11: 0.1
A12: 31 | B12: 0.25 | C12: 0.2 | D12: 0.15 | E12: 0.1
A13: 32 | B13: 0.25 | C13: 0.2 | D13: 0.15 | E13: 0.1
... A61: 80 | B61: 0.1 | C61: 0.05 | D61: 0.01 | E61: 0.01

Sheet 2021 Multiplier Table
A1: Issue Age | B1: Clarica Limited Pay Female | C1: Clarica Limited Pay Male | D1: Clarica Life Pay Female | E1: Clarica Life Pay Male | F1: Sun 2005 Limited Pay Female | G1: Sun 2005 Limited Pay Male | H1: Sun 2005 Life Pay Female | I1: Sun 2005 Life Pay Male | J1: Sun 2013 Limited Pay Female | K1: Sun 2013 Limited Pay Male | L1: Sun 2013 Life Pay Female | M1: Sun 2013 Life Pay Male
A2: 21 | B2: =INDEX($Q$6:$AB$17, MATCH($A2, $N$5:$N$17, 1), MATCH(B$1, $Q$4:$AB$4, 0))/100 -> 0 | C2: =INDEX($Q$6:$AB$17, MATCH($A2, $N$5:$N$17, 1), MATCH(C$1, $Q$4:$AB$4, 0))/100 -> 0 | D2: =INDEX($Q$6:$AB$17, MATCH($A2, $N$5:$N$17, 1), MATCH(D$1, $Q$4:$AB$4, 0))/100 -> 0 | E2: =INDEX($Q$6:$AB$17, MATCH($A2, $N$5:$N$17, 1), MATCH(E$1, $Q$4:$AB$4, 0))/100 -> 0 | F2: =INDEX($Q$6:$AB$17, MATCH($A2, $N$5:$N$17, 1), MATCH(F$1, $Q$4:$AB$4, 0))/100 -> 0.4 | G2: =INDEX($Q$6:$AB$17, MATCH($A2, $N$5:$N$17, 1), MATCH(G$1, $Q$4:$AB$4, 0))/100 -> 0.4 | H2: =INDEX($Q$6:$AB$17, MATCH($A2, $N$5:$N$17, 1), MATCH(H$1, $Q$4:$AB$4, 0))/100 -> 0.4 | I2: =INDEX($Q$6:$AB$17, MATCH($A2, $N$5:$N$17, 1), MATCH(I$1, $Q$4:$AB$4, 0))/100 -> 0.4 | ... M2: =INDEX($Q$6:$AB$17, MATCH($A2, $N$5:$N$17, 1), MATCH(M$1, $Q$4:$AB$4, 0))/100 -> 0.14 | P2: 2021 Repricing Multipliers
A3: 22 | B3: =INDEX($Q$6:$AB$17, MATCH($A3, $N$5:$N$17, 1), MATCH(B$1, $Q$4:$AB$4, 0))/100 -> 0 | C3: =INDEX($Q$6:$AB$17, MATCH($A3, $N$5:$N$17, 1), MATCH(C$1, $Q$4:$AB$4, 0))/100 -> 0 | D3: =INDEX($Q$6:$AB$17, MATCH($A3, $N$5:$N$17, 1), MATCH(D$1, $Q$4:$AB$4, 0))/100 -> 0 | E3: =INDEX($Q$6:$AB$17, MATCH($A3, $N$5:$N$17, 1), MATCH(E$1, $Q$4:$AB$4, 0))/100 -> 0 | F3: =INDEX($Q$6:$AB$17, MATCH($A3, $N$5:$N$17, 1), MATCH(F$1, $Q$4:$AB$4, 0))/100 -> 0.4 | G3: =INDEX($Q$6:$AB$17, MATCH($A3, $N$5:$N$17, 1), MATCH(G$1, $Q$4:$AB$4, 0))/100 -> 0.4 | H3: =INDEX($Q$6:$AB$17, MATCH($A3, $N$5:$N$17, 1), MATCH(H$1, $Q$4:$AB$4, 0))/100 -> 0.4 | I3: =INDEX($Q$6:$AB$17, MATCH($A3, $N$5:$N$17, 1), MATCH(I$1, $Q$4:$AB$4, 0))/100 -> 0.4 | ... M3: =INDEX($Q$6:$AB$17, MATCH($A3, $N$5:$N$17, 1), MATCH(M$1, $Q$4:$AB$4, 0))/100 -> 0.14 | P3: Product | S3: 2004AL | U3: 2005AL | W3: 2005AL | Y3: 2013AL | AA3: 2013AL
A4: 23 | B4: =INDEX($Q$6:$AB$17, MATCH($A4, $N$5:$N$17, 1), MATCH(B$1, $Q$4:$AB$4, 0))/100 -> 0 | C4: =INDEX($Q$6:$AB$17, MATCH($A4, $N$5:$N$17, 1), MATCH(C$1, $Q$4:$AB$4, 0))/100 -> 0 | D4: =INDEX($Q$6:$AB$17, MATCH($A4, $N$5:$N$17, 1), MATCH(D$1, $Q$4:$AB$4, 0))/100 -> 0 | E4: =INDEX($Q$6:$AB$17, MATCH($A4, $N$5:$N$17, 1), MATCH(E$1, $Q$4:$AB$4, 0))/100 -> 0 | F4: =INDEX($Q$6:$AB$17, MATCH($A4, $N$5:$N$17, 1), MATCH(F$1, $Q$4:$AB$4, 0))/100 -> 0.4 | G4: =INDEX($Q$6:$AB$17, MATCH($A4, $N$5:$N$17, 1), MATCH(G$1, $Q$4:$AB$4, 0))/100 -> 0.4 | H4: =INDEX($Q$6:$AB$17, MATCH($A4, $N$5:$N$17, 1), MATCH(H$1, $Q$4:$AB$4, 0))/100 -> 0.4 | I4: =INDEX($Q$6:$AB$17, MATCH($A4, $N$5:$N$17, 1), MATCH(I$1, $Q$4:$AB$4, 0))/100 -> 0.4 | ... M4: =INDEX($Q$6:$AB$17, MATCH($A4, $N$5:$N$17, 1), MATCH(M$1, $Q$4:$AB$4, 0))/100 -> 0.14 | P4: Payment Period | Q4: Clarica Limited Pay Female | R4: Clarica Limited Pay Male | S4: Clarica Life Pay Female | T4: Clarica Life Pay Male | U4: Sun 2005 Limited Pay Female | V4: Sun 2005 Limited Pay Male | W4: Sun 2005 Life Pay Female | X4: Sun 2005 Life Pay Male | Y4: Sun 2013 Limited Pay Female | Z4: Sun 2013 Limited Pay Male | AA4: Sun 2013 Life Pay Female | AB4: Sun 2013 Life Pay Male
A5: 24 | B5: =INDEX($Q$6:$AB$17, MATCH($A5, $N$5:$N$17, 1), MATCH(B$1, $Q$4:$AB$4, 0))/100 -> 0 | C5: =INDEX($Q$6:$AB$17, MATCH($A5, $N$5:$N$17, 1), MATCH(C$1, $Q$4:$AB$4, 0))/100 -> 0 | D5: =INDEX($Q$6:$AB$17, MATCH($A5, $N$5:$N$17, 1), MATCH(D$1, $Q$4:$AB$4, 0))/100 -> 0 | E5: =INDEX($Q$6:$AB$17, MATCH($A5, $N$5:$N$17, 1), MATCH(E$1, $Q$4:$AB$4, 0))/100 -> 0 | F5: =INDEX($Q$6:$AB$17, MATCH($A5, $N$5:$N$17, 1), MATCH(F$1, $Q$4:$AB$4, 0))/100 -> 0.4 | G5: =INDEX($Q$6:$AB$17, MATCH($A5, $N$5:$N$17, 1), MATCH(G$1, $Q$4:$AB$4, 0))/100 -> 0.4 | H5: =INDEX($Q$6:$AB$17, MATCH($A5, $N$5:$N$17, 1), MATCH(H$1, $Q$4:$AB$4, 0))/100 -> 0.4 | I5: =INDEX($Q$6:$AB$17, MATCH($A5, $N$5:$N$17, 1), MATCH(I$1, $Q$4:$AB$4, 0))/100 -> 0.4 | ... M5: =INDEX($Q$6:$AB$17, MATCH($A5, $N$5:$N$17, 1), MATCH(M$1, $Q$4:$AB$4, 0))/100 -> 0.14 | N5: =_xlfn.NUMBERVALUE(LEFT(P6, 2)) -> 21 | Q5: Female | R5: Male | S5: Female | T5: Male | U5: Female | V5: Male | W5: Female | X5: Male | Y5: Female | Z5: Male | AA5: Female | AB5: Male
A6: 25 | B6: =INDEX($Q$6:$AB$17, MATCH($A6, $N$5:$N$17, 1), MATCH(B$1, $Q$4:$AB$4, 0))/100 -> 0 | C6: =INDEX($Q$6:$AB$17, MATCH($A6, $N$5:$N$17, 1), MATCH(C$1, $Q$4:$AB$4, 0))/100 -> 0 | D6: =INDEX($Q$6:$AB$17, MATCH($A6, $N$5:$N$17, 1), MATCH(D$1, $Q$4:$AB$4, 0))/100 -> 0 | E6: =INDEX($Q$6:$AB$17, MATCH($A6, $N$5:$N$17, 1), MATCH(E$1, $Q$4:$AB$4, 0))/100 -> 0 | F6: =INDEX($Q$6:$AB$17, MATCH($A6, $N$5:$N$17, 1), MATCH(F$1, $Q$4:$AB$4, 0))/100 -> 0.4 | G6: =INDEX($Q$6:$AB$17, MATCH($A6, $N$5:$N$17, 1), MATCH(G$1, $Q$4:$AB$4, 0))/100 -> 0.4 | H6: =INDEX($Q$6:$AB$17, MATCH($A6, $N$5:$N$17, 1), MATCH(H$1, $Q$4:$AB$4, 0))/100 -> 0.4 | I6: =INDEX($Q$6:$AB$17, MATCH($A6, $N$5:$N$17, 1), MATCH(I$1, $Q$4:$AB$4, 0))/100 -> 0.4 | ... M6: =INDEX($Q$6:$AB$17, MATCH($A6, $N$5:$N$17, 1), MATCH(M$1, $Q$4:$AB$4, 0))/100 -> 0.14 | N6: =_xlfn.NUMBERVALUE(LEFT(P7, 2)) -> 26 | O6: Recommended Rate (%) | P6: 21-25 | Q6: 0 | R6: 0 | S6: 0 | T6: 0 | U6: 40 | V6: 40 | W6: 40 | X6: 40 | Y6: 10 | Z6: 12 | AA6: 12 | AB6: 14
A7: 26 | B7: =INDEX($Q$6:$AB$17, MATCH($A7, $N$5:$N$17, 1), MATCH(B$1, $Q$4:$AB$4, 0))/100 -> 0 | C7: =INDEX($Q$6:$AB$17, MATCH($A7, $N$5:$N$17, 1), MATCH(C$1, $Q$4:$AB$4, 0))/100 -> 0 | D7: =INDEX($Q$6:$AB$17, MATCH($A7, $N$5:$N$17, 1), MATCH(D$1, $Q$4:$AB$4, 0))/100 -> 0 | E7: =INDEX($Q$6:$AB$17, MATCH($A7, $N$5:$N$17, 1), MATCH(E$1, $Q$4:$AB$4, 0))/100 -> 0 | F7: =INDEX($Q$6:$AB$17, MATCH($A7, $N$5:$N$17, 1), MATCH(F$1, $Q$4:$AB$4, 0))/100 -> 0.4 | G7: =INDEX($Q$6:$AB$17, MATCH($A7, $N$5:$N$17, 1), MATCH(G$1, $Q$4:$AB$4, 0))/100 -> 0.4 | H7: =INDEX($Q$6:$AB$17, MATCH($A7, $N$5:$N$17, 1), MATCH(H$1, $Q$4:$AB$4, 0))/100 -> 0.4 | I7: =INDEX($Q$6:$AB$17, MATCH($A7, $N$5:$N$17, 1), MATCH(I$1, $Q$4:$AB$4, 0))/100 -> 0.4 | ... M7: =INDEX($Q$6:$AB$17, MATCH($A7, $N$5:$N$17, 1), MATCH(M$1, $Q$4:$AB$4, 0))/100 -> 0.16 | N7: =_xlfn.NUMBERVALUE(LEFT(P8, 2)) -> 31 | P7: 26-30 | Q7: 0 | R7: 0 | S7: 0 | T7: 0 | U7: 40 | V7: 40 | W7: 40 | X7: 40 | Y7: 14 | Z7: 18 | AA7: 14 | AB7: 16
A8: 27 | B8: =INDEX($Q$6:$AB$17, MATCH($A8, $N$5:$N$17, 1), MATCH(B$1, $Q$4:$AB$4, 0))/100 -> 0 | C8: =INDEX($Q$6:$AB$17, MATCH($A8, $N$5:$N$17, 1), MATCH(C$1, $Q$4:$AB$4, 0))/100 -> 0 | D8: =INDEX($Q$6:$AB$17, MATCH($A8, $N$5:$N$17, 1), MATCH(D$1, $Q$4:$AB$4, 0))/100 -> 0 | E8: =INDEX($Q$6:$AB$17, MATCH($A8, $N$5:$N$17, 1), MATCH(E$1, $Q$4:$AB$4, 0))/100 -> 0 | F8: =INDEX($Q$6:$AB$17, MATCH($A8, $N$5:$N$17, 1), MATCH(F$1, $Q$4:$AB$4, 0))/100 -> 0.4 | G8: =INDEX($Q$6:$AB$17, MATCH($A8, $N$5:$N$17, 1), MATCH(G$1, $Q$4:$AB$4, 0))/100 -> 0.4 | H8: =INDEX($Q$6:$AB$17, MATCH($A8, $N$5:$N$17, 1), MATCH(H$1, $Q$4:$AB$4, 0))/100 -> 0.4 | I8: =INDEX($Q$6:$AB$17, MATCH($A8, $N$5:$N$17, 1), MATCH(I$1, $Q$4:$AB$4, 0))/100 -> 0.4 | ... M8: =INDEX($Q$6:$AB$17, MATCH($A8, $N$5:$N$17, 1), MATCH(M$1, $Q$4:$AB$4, 0))/100 -> 0.16 | N8: =_xlfn.NUMBERVALUE(LEFT(P9, 2)) -> 36 | P8: 31-35 | Q8: 40 | R8: 40 | S8: 40 | T8: 40 | U8: 40 | V8: 40 | W8: 36 | X8: 40 | Y8: 14 | Z8: 18 | AA8: 14 | AB8: 16
A9: 28 | B9: =INDEX($Q$6:$AB$17, MATCH($A9, $N$5:$N$17, 1), MATCH(B$1, $Q$4:$AB$4, 0))/100 -> 0 | C9: =INDEX($Q$6:$AB$17, MATCH($A9, $N$5:$N$17, 1), MATCH(C$1, $Q$4:$AB$4, 0))/100 -> 0 | D9: =INDEX($Q$6:$AB$17, MATCH($A9, $N$5:$N$17, 1), MATCH(D$1, $Q$4:$AB$4, 0))/100 -> 0 | E9: =INDEX($Q$6:$AB$17, MATCH($A9, $N$5:$N$17, 1), MATCH(E$1, $Q$4:$AB$4, 0))/100 -> 0 | F9: =INDEX($Q$6:$AB$17, MATCH($A9, $N$5:$N$17, 1), MATCH(F$1, $Q$4:$AB$4, 0))/100 -> 0.4 | G9: =INDEX($Q$6:$AB$17, MATCH($A9, $N$5:$N$17, 1), MATCH(G$1, $Q$4:$AB$4, 0))/100 -> 0.4 | H9: =INDEX($Q$6:$AB$17, MATCH($A9, $N$5:$N$17, 1), MATCH(H$1, $Q$4:$AB$4, 0))/100 -> 0.4 | I9: =INDEX($Q$6:$AB$17, MATCH($A9, $N$5:$N$17, 1), MATCH(I$1, $Q$4:$AB$4, 0))/100 -> 0.4 | ... M9: =INDEX($Q$6:$AB$17, MATCH($A9, $N$5:$N$17, 1), MATCH(M$1, $Q$4:$AB$4, 0))/100 -> 0.16 | N9: =_xlfn.NUMBERVALUE(LEFT(P10, 2)) -> 41 | P9: 36-40 | Q9: 40 | R9: 40 | S9: 40 | T9: 40 | U9: 40 | V9: 40 | W9: 34 | X9: 40 | Y9: 14 | Z9: 18 | AA9: 16 | AB9: 22
A10: 29 | B10: =INDEX($Q$6:$AB$17, MATCH($A10, $N$5:$N$17, 1), MATCH(B$1, $Q$4:$AB$4, 0))/100 -> 0 | C10: =INDEX($Q$6:$AB$17, MATCH($A10, $N$5:$N$17, 1), MATCH(C$1, $Q$4:$AB$4, 0))/100 -> 0 | D10: =INDEX($Q$6:$AB$17, MATCH($A10, $N$5:$N$17, 1), MATCH(D$1, $Q$4:$AB$4, 0))/100 -> 0 | E10: =INDEX($Q$6:$AB$17, MATCH($A10, $N$5:$N$17, 1), MATCH(E$1, $Q$4:$AB$4, 0))/100 -> 0 | F10: =INDEX($Q$6:$AB$17, MATCH($A10, $N$5:$N$17, 1), MATCH(F$1, $Q$4:$AB$4, 0))/100 -> 0.4 | G10: =INDEX($Q$6:$AB$17, MATCH($A10, $N$5:$N$17, 1), MATCH(G$1, $Q$4:$AB$4, 0))/100 -> 0.4 | H10: =INDEX($Q$6:$AB$17, MATCH($A10, $N$5:$N$17, 1), MATCH(H$1, $Q$4:$AB$4, 0))/100 -> 0.4 | I10: =INDEX($Q$6:$AB$17, MATCH($A10, $N$5:$N$17, 1), MATCH(I$1, $Q$4:$AB$4, 0))/100 -> 0.4 | ... M10: =INDEX($Q$6:$AB$17, MATCH($A10, $N$5:$N$17, 1), MATCH(M$1, $Q$4:$AB$4, 0))/100 -> 0.16 | N10: =_xlfn.NUMBERVALUE(LEFT(P11, 2)) -> 46 | P10: 41-45 | Q10: 40 | R10: 40 | S10: 40 | T10: 40 | U10: 40 | V10: 40 | W10: 30 | X10: 40 | Y10: 16 | Z10: 22 | AA10: 16 | AB10: 22
A11: 30 | B11: =INDEX($Q$6:$AB$17, MATCH($A11, $N$5:$N$17, 1), MATCH(B$1, $Q$4:$AB$4, 0))/100 -> 0 | C11: =INDEX($Q$6:$AB$17, MATCH($A11, $N$5:$N$17, 1), MATCH(C$1, $Q$4:$AB$4, 0))/100 -> 0 | D11: =INDEX($Q$6:$AB$17, MATCH($A11, $N$5:$N$17, 1), MATCH(D$1, $Q$4:$AB$4, 0))/100 -> 0 | E11: =INDEX($Q$6:$AB$17, MATCH($A11, $N$5:$N$17, 1), MATCH(E$1, $Q$4:$AB$4, 0))/100 -> 0 | F11: =INDEX($Q$6:$AB$17, MATCH($A11, $N$5:$N$17, 1), MATCH(F$1, $Q$4:$AB$4, 0))/100 -> 0.4 | G11: =INDEX($Q$6:$AB$17, MATCH($A11, $N$5:$N$17, 1), MATCH(G$1, $Q$4:$AB$4, 0))/100 -> 0.4 | H11: =INDEX($Q$6:$AB$17, MATCH($A11, $N$5:$N$17, 1), MATCH(H$1, $Q$4:$AB$4, 0))/100 -> 0.4 | I11: =INDEX($Q$6:$AB$17, MATCH($A11, $N$5:$N$17, 1), MATCH(I$1, $Q$4:$AB$4, 0))/100 -> 0.4 | ... M11: =INDEX($Q$6:$AB$17, MATCH($A11, $N$5:$N$17, 1), MATCH(M$1, $Q$4:$AB$4, 0))/100 -> 0.16 | N11: =_xlfn.NUMBERVALUE(LEFT(P12, 2)) -> 51 | P11: 46-50 | Q11: 40 | R11: 40 | S11: 40 | T11: 40 | U11: 40 | V11: 40 | W11: 30 | X11: 40 | Y11: 16 | Z11: 24 | AA11: 18 | AB11: 24
A12: 31 | B12: =INDEX($Q$6:$AB$17, MATCH($A12, $N$5:$N$17, 1), MATCH(B$1, $Q$4:$AB$4, 0))/100 -> 0.4 | C12: =INDEX($Q$6:$AB$17, MATCH($A12, $N$5:$N$17, 1), MATCH(C$1, $Q$4:$AB$4, 0))/100 -> 0.4 | D12: =INDEX($Q$6:$AB$17, MATCH($A12, $N$5:$N$17, 1), MATCH(D$1, $Q$4:$AB$4, 0))/100 -> 0.4 | E12: =INDEX($Q$6:$AB$17, MATCH($A12, $N$5:$N$17, 1), MATCH(E$1, $Q$4:$AB$4, 0))/100 -> 0.4 | F12: =INDEX($Q$6:$AB$17, MATCH($A12, $N$5:$N$17, 1), MATCH(F$1, $Q$4:$AB$4, 0))/100 -> 0.4 | G12: =INDEX($Q$6:$AB$17, MATCH($A12, $N$5:$N$17, 1), MATCH(G$1, $Q$4:$AB$4, 0))/100 -> 0.4 | H12: =INDEX($Q$6:$AB$17, MATCH($A12, $N$5:$N$17, 1), MATCH(H$1, $Q$4:$AB$4, 0))/100 -> 0.36 | I12: =INDEX($Q$6:$AB$17, MATCH($A12, $N$5:$N$17, 1), MATCH(I$1, $Q$4:$AB$4, 0))/100 -> 0.4 | ... M12: =INDEX($Q$6:$AB$17, MATCH($A12, $N$5:$N$17, 1), MATCH(M$1, $Q$4:$AB$4, 0))/100 -> 0.16 | N12: =_xlfn.NUMBERVALUE(LEFT(P13, 2)) -> 56 | P12: 51-55 | Q12: 36 | R12: 36 | S12: 36 | T12: 36 | U12: 36 | V12: 36 | W12: 28 | X12: 36 | Y12: 20 | Z12: 22 | AA12: 18 | AB12: 24
A13: 32 | B13: =INDEX($Q$6:$AB$17, MATCH($A13, $N$5:$N$17, 1), MATCH(B$1, $Q$4:$AB$4, 0))/100 -> 0.4 | C13: =INDEX($Q$6:$AB$17, MATCH($A13, $N$5:$N$17, 1), MATCH(C$1, $Q$4:$AB$4, 0))/100 -> 0.4 | D13: =INDEX($Q$6:$AB$17, MATCH($A13, $N$5:$N$17, 1), MATCH(D$1, $Q$4:$AB$4, 0))/100 -> 0.4 | E13: =INDEX($Q$6:$AB$17, MATCH($A13, $N$5:$N$17, 1), MATCH(E$1, $Q$4:$AB$4, 0))/100 -> 0.4 | F13: =INDEX($Q$6:$AB$17, MATCH($A13, $N$5:$N$17, 1), MATCH(F$1, $Q$4:$AB$4, 0))/100 -> 0.4 | G13: =INDEX($Q$6:$AB$17, MATCH($A13, $N$5:$N$17, 1), MATCH(G$1, $Q$4:$AB$4, 0))/100 -> 0.4 | H13: =INDEX($Q$6:$AB$17, MATCH($A13, $N$5:$N$17, 1), MATCH(H$1, $Q$4:$AB$4, 0))/100 -> 0.36 | I13: =INDEX($Q$6:$AB$17, MATCH($A13, $N$5:$N$17, 1), MATCH(I$1, $Q$4:$AB$4, 0))/100 -> 0.4 | ... M13: =INDEX($Q$6:$AB$17, MATCH($A13, $N$5:$N$17, 1), MATCH(M$1, $Q$4:$AB$4, 0))/100 -> 0.16 | N13: =_xlfn.NUMBERVALUE(LEFT(P14, 2)) -> 61 | P13: 56-60 | Q13: 32 | R13: 32 | S13: 32 | T13: 32 | U13: 32 | V13: 32 | W13: 26 | X13: 32 | Y13: 16 | Z13: 22 | AA13: 16 | AB13: 22
A14: 33 | B14: =INDEX($Q$6:$AB$17, MATCH($A14, $N$5:$N$17, 1), MATCH(B$1, $Q$4:$AB$4, 0))/100 -> 0.4 | C14: =INDEX($Q$6:$AB$17, MATCH($A14, $N$5:$N$17, 1), MATCH(C$1, $Q$4:$AB$4, 0))/100 -> 0.4 | D14: =INDEX($Q$6:$AB$17, MATCH($A14, $N$5:$N$17, 1), MATCH(D$1, $Q$4:$AB$4, 0))/100 -> 0.4 | E14: =INDEX($Q$6:$AB$17, MATCH($A14, $N$5:$N$17, 1), MATCH(E$1, $Q$4:$AB$4, 0))/100 -> 0.4 | F14: =INDEX($Q$6:$AB$17, MATCH($A14, $N$5:$N$17, 1), MATCH(F$1, $Q$4:$AB$4, 0))/100 -> 0.4 | G14: =INDEX($Q$6:$AB$17, MATCH($A14, $N$5:$N$17, 1), MATCH(G$1, $Q$4:$AB$4, 0))/100 -> 0.4 | H14: =INDEX($Q$6:$AB$17, MATCH($A14, $N$5:$N$17, 1), MATCH(H$1, $Q$4:$AB$4, 0))/100 -> 0.36 | I14: =INDEX($Q$6:$AB$17, MATCH($A14, $N$5:$N$17, 1), MATCH(I$1, $Q$4:$AB$4, 0))/100 -> 0.4 | ... M14: =INDEX($Q$6:$AB$17, MATCH($A14, $N$5:$N$17, 1), MATCH(M$1, $Q$4:$AB$4, 0))/100 -> 0.16 | N14: =_xlfn.NUMBERVALUE(LEFT(P15, 2)) -> 66 | P14: 61-65 | Q14: 30 | R14: 30 | S14: 26 | T14: 30 | U14: 30 | V14: 30 | W14: 20 | X14: 30 | Y14: 14 | Z14: 18 | AA14: 12 | AB14: 16
A15: 34 | B15: =INDEX($Q$6:$AB$17, MATCH($A15, $N$5:$N$17, 1), MATCH(B$1, $Q$4:$AB$4, 0))/100 -> 0.4 | C15: =INDEX($Q$6:$AB$17, MATCH($A15, $N$5:$N$17, 1), MATCH(C$1, $Q$4:$AB$4, 0))/100 -> 0.4 | D15: =INDEX($Q$6:$AB$17, MATCH($A15, $N$5:$N$17, 1), MATCH(D$1, $Q$4:$AB$4, 0))/100 -> 0.4 | E15: =INDEX($Q$6:$AB$17, MATCH($A15, $N$5:$N$17, 1), MATCH(E$1, $Q$4:$AB$4, 0))/100 -> 0.4 | F15: =INDEX($Q$6:$AB$17, MATCH($A15, $N$5:$N$17, 1), MATCH(F$1, $Q$4:$AB$4, 0))/100 -> 0.4 | G15: =INDEX($Q$6:$AB$17, MATCH($A15, $N$5:$N$17, 1), MATCH(G$1, $Q$4:$AB$4, 0))/100 -> 0.4 | H15: =INDEX($Q$6:$AB$17, MATCH($A15, $N$5:$N$17, 1), MATCH(H$1, $Q$4:$AB$4, 0))/100 -> 0.36 | I15: =INDEX($Q$6:$AB$17, MATCH($A15, $N$5:$N$17, 1), MATCH(I$1, $Q$4:$AB$4, 0))/100 -> 0.4 | ... M15: =INDEX($Q$6:$AB$17, MATCH($A15, $N$5:$N$17, 1), MATCH(M$1, $Q$4:$AB$4, 0))/100 -> 0.16 | N15: =_xlfn.NUMBERVALUE(LEFT(P16, 2)) -> 71 | P15: 66-70 | Q15: 25 | R15: 25 | S15: 25 | T15: 25 | U15: 25 | V15: 25 | W15: 18 | X15: 25 | Y15: 4 | Z15: 10 | AA15: 6 | AB15: 8
A16: 35 | B16: =INDEX($Q$6:$AB$17, MATCH($A16, $N$5:$N$17, 1), MATCH(B$1, $Q$4:$AB$4, 0))/100 -> 0.4 | C16: =INDEX($Q$6:$AB$17, MATCH($A16, $N$5:$N$17, 1), MATCH(C$1, $Q$4:$AB$4, 0))/100 -> 0.4 | D16: =INDEX($Q$6:$AB$17, MATCH($A16, $N$5:$N$17, 1), MATCH(D$1, $Q$4:$AB$4, 0))/100 -> 0.4 | E16: =INDEX($Q$6:$AB$17, MATCH($A16, $N$5:$N$17, 1), MATCH(E$1, $Q$4:$AB$4, 0))/100 -> 0.4 | F16: =INDEX($Q$6:$AB$17, MATCH($A16, $N$5:$N$17, 1), MATCH(F$1, $Q$4:$AB$4, 0))/100 -> 0.4 | G16: =INDEX($Q$6:$AB$17, MATCH($A16, $N$5:$N$17, 1), MATCH(G$1, $Q$4:$AB$4, 0))/100 -> 0.4 | H16: =INDEX($Q$6:$AB$17, MATCH($A16, $N$5:$N$17, 1), MATCH(H$1, $Q$4:$AB$4, 0))/100 -> 0.36 | I16: =INDEX($Q$6:$AB$17, MATCH($A16, $N$5:$N$17, 1), MATCH(I$1, $Q$4:$AB$4, 0))/100 -> 0.4 | ... M16: =INDEX($Q$6:$AB$17, MATCH($A16, $N$5:$N$17, 1), MATCH(M$1, $Q$4:$AB$4, 0))/100 -> 0.16 | N16: =_xlfn.NUMBERVALUE(LEFT(P17, 2)) -> 76 | P16: 71-75 | Q16: 25 | R16: 25 | S16: 25 | T16: 25 | U16: 25 | V16: 25 | W16: 10 | X16: 20 | Y16: 0 | Z16: 10 | AA16: 2 | AB16: 4
A17: 36 | B17: =INDEX($Q$6:$AB$17, MATCH($A17, $N$5:$N$17, 1), MATCH(B$1, $Q$4:$AB$4, 0))/100 -> 0.4 | C17: =INDEX($Q$6:$AB$17, MATCH($A17, $N$5:$N$17, 1), MATCH(C$1, $Q$4:$AB$4, 0))/100 -> 0.4 | D17: =INDEX($Q$6:$AB$17, MATCH($A17, $N$5:$N$17, 1), MATCH(D$1, $Q$4:$AB$4, 0))/100 -> 0.4 | E17: =INDEX($Q$6:$AB$17, MATCH($A17, $N$5:$N$17, 1), MATCH(E$1, $Q$4:$AB$4, 0))/100 -> 0.4 | F17: =INDEX($Q$6:$AB$17, MATCH($A17, $N$5:$N$17, 1), MATCH(F$1, $Q$4:$AB$4, 0))/100 -> 0.4 | G17: =INDEX($Q$6:$AB$17, MATCH($A17, $N$5:$N$17, 1), MATCH(G$1, $Q$4:$AB$4, 0))/100 -> 0.4 | H17: =INDEX($Q$6:$AB$17, MATCH($A17, $N$5:$N$17, 1), MATCH(H$1, $Q$4:$AB$4, 0))/100 -> 0.34 | I17: =INDEX($Q$6:$AB$17, MATCH($A17, $N$5:$N$17, 1), MATCH(I$1, $Q$4:$AB$4, 0))/100 -> 0.4 | ... M17: =INDEX($Q$6:$AB$17, MATCH($A17, $N$5:$N$17, 1), MATCH(M$1, $Q$4:$AB$4, 0))/100 -> 0.22 | N17: 81 | P17: 76-80 | Q17: 0 | R17: 25 | S17: 25 | T17: 25 | U17: 25 | V17: 0 | W17: 10 | X17: 20 | Y17: 0 | Z17: 0 | AA17: 2 | AB17: 4
A18: 37 | B18: =INDEX($Q$6:$AB$17, MATCH($A18, $N$5:$N$17, 1), MATCH(B$1, $Q$4:$AB$4, 0))/100 -> 0.4 | C18: =INDEX($Q$6:$AB$17, MATCH($A18, $N$5:$N$17, 1), MATCH(C$1, $Q$4:$AB$4, 0))/100 -> 0.4 | D18: =INDEX($Q$6:$AB$17, MATCH($A18, $N$5:$N$17, 1), MATCH(D$1, $Q$4:$AB$4, 0))/100 -> 0.4 | E18: =INDEX($Q$6:$AB$17, MATCH($A18, $N$5:$N$17, 1), MATCH(E$1, $Q$4:$AB$4, 0))/100 -> 0.4 | F18: =INDEX($Q$6:$AB$17, MATCH($A18, $N$5:$N$17, 1), MATCH(F$1, $Q$4:$AB$4, 0))/100 -> 0.4 | G18: =INDEX($Q$6:$AB$17, MATCH($A18, $N$5:$N$17, 1), MATCH(G$1, $Q$4:$AB$4, 0))/100 -> 0.4 | H18: =INDEX($Q$6:$AB$17, MATCH($A18, $N$5:$N$17, 1), MATCH(H$1, $Q$4:$AB$4, 0))/100 -> 0.34 | I18: =INDEX($Q$6:$AB$17, MATCH($A18, $N$5:$N$17, 1), MATCH(I$1, $Q$4:$AB$4, 0))/100 -> 0.4 | ... M18: =INDEX($Q$6:$AB$17, MATCH($A18, $N$5:$N$17, 1), MATCH(M$1, $Q$4:$AB$4, 0))/100 -> 0.22
A19: 38 | B19: =INDEX($Q$6:$AB$17, MATCH($A19, $N$5:$N$17, 1), MATCH(B$1, $Q$4:$AB$4, 0))/100 -> 0.4 | C19: =INDEX($Q$6:$AB$17, MATCH($A19, $N$5:$N$17, 1), MATCH(C$1, $Q$4:$AB$4, 0))/100 -> 0.4 | D19: =INDEX($Q$6:$AB$17, MATCH($A19, $N$5:$N$17, 1), MATCH(D$1, $Q$4:$AB$4, 0))/100 -> 0.4 | E19: =INDEX($Q$6:$AB$17, MATCH($A19, $N$5:$N$17, 1), MATCH(E$1, $Q$4:$AB$4, 0))/100 -> 0.4 | F19: =INDEX($Q$6:$AB$17, MATCH($A19, $N$5:$N$17, 1), MATCH(F$1, $Q$4:$AB$4, 0))/100 -> 0.4 | G19: =INDEX($Q$6:$AB$17, MATCH($A19, $N$5:$N$17, 1), MATCH(G$1, $Q$4:$AB$4, 0))/100 -> 0.4 | H19: =INDEX($Q$6:$AB$17, MATCH($A19, $N$5:$N$17, 1), MATCH(H$1, $Q$4:$AB$4, 0))/100 -> 0.34 | I19: =INDEX($Q$6:$AB$17, MATCH($A19, $N$5:$N$17, 1), MATCH(I$1, $Q$4:$AB$4, 0))/100 -> 0.4 | ... M19: =INDEX($Q$6:$AB$17, MATCH($A19, $N$5:$N$17, 1), MATCH(M$1, $Q$4:$AB$4, 0))/100 -> 0.22
A20: 39 | B20: =INDEX($Q$6:$AB$17, MATCH($A20, $N$5:$N$17, 1), MATCH(B$1, $Q$4:$AB$4, 0))/100 -> 0.4 | C20: =INDEX($Q$6:$AB$17, MATCH($A20, $N$5:$N$17, 1), MATCH(C$1, $Q$4:$AB$4, 0))/100 -> 0.4 | D20: =INDEX($Q$6:$AB$17, MATCH($A20, $N$5:$N$17, 1), MATCH(D$1, $Q$4:$AB$4, 0))/100 -> 0.4 | E20: =INDEX($Q$6:$AB$17, MATCH($A20, $N$5:$N$17, 1), MATCH(E$1, $Q$4:$AB$4, 0))/100 -> 0.4 | F20: =INDEX($Q$6:$AB$17, MATCH($A20, $N$5:$N$17, 1), MATCH(F$1, $Q$4:$AB$4, 0))/100 -> 0.4 | G20: =INDEX($Q$6:$AB$17, MATCH($A20, $N$5:$N$17, 1), MATCH(G$1, $Q$4:$AB$4, 0))/100 -> 0.4 | H20: =INDEX($Q$6:$AB$17, MATCH($A20, $N$5:$N$17, 1), MATCH(H$1, $Q$4:$AB$4, 0))/100 -> 0.34 | I20: =INDEX($Q$6:$AB$17, MATCH($A20, $N$5:$N$17, 1), MATCH(I$1, $Q$4:$AB$4, 0))/100 -> 0.4 | ... M20: =INDEX($Q$6:$AB$17, MATCH($A20, $N$5:$N$17, 1), MATCH(M$1, $Q$4:$AB$4, 0))/100 -> 0.22
A21: 40 | B21: =INDEX($Q$6:$AB$17, MATCH($A21, $N$5:$N$17, 1), MATCH(B$1, $Q$4:$AB$4, 0))/100 -> 0.4 | C21: =INDEX($Q$6:$AB$17, MATCH($A21, $N$5:$N$17, 1), MATCH(C$1, $Q$4:$AB$4, 0))/100 -> 0.4 | D21: =INDEX($Q$6:$AB$17, MATCH($A21, $N$5:$N$17, 1), MATCH(D$1, $Q$4:$AB$4, 0))/100 -> 0.4 | E21: =INDEX($Q$6:$AB$17, MATCH($A21, $N$5:$N$17, 1), MATCH(E$1, $Q$4:$AB$4, 0))/100 -> 0.4 | F21: =INDEX($Q$6:$AB$17, MATCH($A21, $N$5:$N$17, 1), MATCH(F$1, $Q$4:$AB$4, 0))/100 -> 0.4 | G21: =INDEX($Q$6:$AB$17, MATCH($A21, $N$5:$N$17, 1), MATCH(G$1, $Q$4:$AB$4, 0))/100 -> 0.4 | H21: =INDEX($Q$6:$AB$17, MATCH($A21, $N$5:$N$17, 1), MATCH(H$1, $Q$4:$AB$4, 0))/100 -> 0.34 | I21: =INDEX($Q$6:$AB$17, MATCH($A21, $N$5:$N$17, 1), MATCH(I$1, $Q$4:$AB$4, 0))/100 -> 0.4 | ... M21: =INDEX($Q$6:$AB$17, MATCH($A21, $N$5:$N$17, 1), MATCH(M$1, $Q$4:$AB$4, 0))/100 -> 0.22 | P21: Female | Q21: Male
A22: 41 | B22: =INDEX($Q$6:$AB$17, MATCH($A22, $N$5:$N$17, 1), MATCH(B$1, $Q$4:$AB$4, 0))/100 -> 0.4 | C22: =INDEX($Q$6:$AB$17, MATCH($A22, $N$5:$N$17, 1), MATCH(C$1, $Q$4:$AB$4, 0))/100 -> 0.4 | D22: =INDEX($Q$6:$AB$17, MATCH($A22, $N$5:$N$17, 1), MATCH(D$1, $Q$4:$AB$4, 0))/100 -> 0.4 | E22: =INDEX($Q$6:$AB$17, MATCH($A22, $N$5:$N$17, 1), MATCH(E$1, $Q$4:$AB$4, 0))/100 -> 0.4 | F22: =INDEX($Q$6:$AB$17, MATCH($A22, $N$5:$N$17, 1), MATCH(F$1, $Q$4:$AB$4, 0))/100 -> 0.4 | G22: =INDEX($Q$6:$AB$17, MATCH($A22, $N$5:$N$17, 1), MATCH(G$1, $Q$4:$AB$4, 0))/100 -> 0.4 | H22: =INDEX($Q$6:$AB$17, MATCH($A22, $N$5:$N$17, 1), MATCH(H$1, $Q$4:$AB$4, 0))/100 -> 0.3 | I22: =INDEX($Q$6:$AB$17, MATCH($A22, $N$5:$N$17, 1), MATCH(I$1, $Q$4:$AB$4, 0))/100 -> 0.4 | ... M22: =INDEX($Q$6:$AB$17, MATCH($A22, $N$5:$N$17, 1), MATCH(M$1, $Q$4:$AB$4, 0))/100 -> 0.22 | P22: 0 | Q22: 0
A23: 42 | B23: =INDEX($Q$6:$AB$17, MATCH($A23, $N$5:$N$17, 1), MATCH(B$1, $Q$4:$AB$4, 0))/100 -> 0.4 | C23: =INDEX($Q$6:$AB$17, MATCH($A23, $N$5:$N$17, 1), MATCH(C$1, $Q$4:$AB$4, 0))/100 -> 0.4 | D23: =INDEX($Q$6:$AB$17, MATCH($A23, $N$5:$N$17, 1), MATCH(D$1, $Q$4:$AB$4, 0))/100 -> 0.4 | E23: =INDEX($Q$6:$AB$17, MATCH($A23, $N$5:$N$17, 1), MATCH(E$1, $Q$4:$AB$4, 0))/100 -> 0.4 | F23: =INDEX($Q$6:$AB$17, MATCH($A23, $N$5:$N$17, 1), MATCH(F$1, $Q$4:$AB$4, 0))/100 -> 0.4 | G23: =INDEX($Q$6:$AB$17, MATCH($A23, $N$5:$N$17, 1), MATCH(G$1, $Q$4:$AB$4, 0))/100 -> 0.4 | H23: =INDEX($Q$6:$AB$17, MATCH($A23, $N$5:$N$17, 1), MATCH(H$1, $Q$4:$AB$4, 0))/100 -> 0.3 | I23: =INDEX($Q$6:$AB$17, MATCH($A23, $N$5:$N$17, 1), MATCH(I$1, $Q$4:$AB$4, 0))/100 -> 0.4 | ... M23: =INDEX($Q$6:$AB$17, MATCH($A23, $N$5:$N$17, 1), MATCH(M$1, $Q$4:$AB$4, 0))/100 -> 0.22 | P23: 0 | Q23: 0
A24: 43 | B24: =INDEX($Q$6:$AB$17, MATCH($A24, $N$5:$N$17, 1), MATCH(B$1, $Q$4:$AB$4, 0))/100 -> 0.4 | C24: =INDEX($Q$6:$AB$17, MATCH($A24, $N$5:$N$17, 1), MATCH(C$1, $Q$4:$AB$4, 0))/100 -> 0.4 | D24: =INDEX($Q$6:$AB$17, MATCH($A24, $N$5:$N$17, 1), MATCH(D$1, $Q$4:$AB$4, 0))/100 -> 0.4 | E24: =INDEX($Q$6:$AB$17, MATCH($A24, $N$5:$N$17, 1), MATCH(E$1, $Q$4:$AB$4, 0))/100 -> 0.4 | F24: =INDEX($Q$6:$AB$17, MATCH($A24, $N$5:$N$17, 1), MATCH(F$1, $Q$4:$AB$4, 0))/100 -> 0.4 | G24: =INDEX($Q$6:$AB$17, MATCH($A24, $N$5:$N$17, 1), MATCH(G$1, $Q$4:$AB$4, 0))/100 -> 0.4 | H24: =INDEX($Q$6:$AB$17, MATCH($A24, $N$5:$N$17, 1), MATCH(H$1, $Q$4:$AB$4, 0))/100 -> 0.3 | I24: =INDEX($Q$6:$AB$17, MATCH($A24, $N$5:$N$17, 1), MATCH(I$1, $Q$4:$AB$4, 0))/100 -> 0.4 | ... M24: =INDEX($Q$6:$AB$17, MATCH($A24, $N$5:$N$17, 1), MATCH(M$1, $Q$4:$AB$4, 0))/100 -> 0.22 | P24: 40 | Q24: 40
A25: 44 | B25: =INDEX($Q$6:$AB$17, MATCH($A25, $N$5:$N$17, 1), MATCH(B$1, $Q$4:$AB$4, 0))/100 -> 0.4 | C25: =INDEX($Q$6:$AB$17, MATCH($A25, $N$5:$N$17, 1), MATCH(C$1, $Q$4:$AB$4, 0))/100 -> 0.4 | D25: =INDEX($Q$6:$AB$17, MATCH($A25, $N$5:$N$17, 1), MATCH(D$1, $Q$4:$AB$4, 0))/100 -> 0.4 | E25: =INDEX($Q$6:$AB$17, MATCH($A25, $N$5:$N$17, 1), MATCH(E$1, $Q$4:$AB$4, 0))/100 -> 0.4 | F25: =INDEX($Q$6:$AB$17, MATCH($A25, $N$5:$N$17, 1), MATCH(F$1, $Q$4:$AB$4, 0))/100 -> 0.4 | G25: =INDEX($Q$6:$AB$17, MATCH($A25, $N$5:$N$17, 1), MATCH(G$1, $Q$4:$AB$4, 0))/100 -> 0.4 | H25: =INDEX($Q$6:$AB$17, MATCH($A25, $N$5:$N$17, 1), MATCH(H$1, $Q$4:$AB$4, 0))/100 -> 0.3 | I25: =INDEX($Q$6:$AB$17, MATCH($A25, $N$5:$N$17, 1), MATCH(I$1, $Q$4:$AB$4, 0))/100 -> 0.4 | ... M25: =INDEX($Q$6:$AB$17, MATCH($A25, $N$5:$N$17, 1), MATCH(M$1, $Q$4:$AB$4, 0))/100 -> 0.22 | P25: 40 | Q25: 40
A26: 45 | B26: =INDEX($Q$6:$AB$17, MATCH($A26, $N$5:$N$17, 1), MATCH(B$1, $Q$4:$AB$4, 0))/100 -> 0.4 | C26: =INDEX($Q$6:$AB$17, MATCH($A26, $N$5:$N$17, 1), MATCH(C$1, $Q$4:$AB$4, 0))/100 -> 0.4 | D26: =INDEX($Q$6:$AB$17, MATCH($A26, $N$5:$N$17, 1), MATCH(D$1, $Q$4:$AB$4, 0))/100 -> 0.4 | E26: =INDEX($Q$6:$AB$17, MATCH($A26, $N$5:$N$17, 1), MATCH(E$1, $Q$4:$AB$4, 0))/100 -> 0.4 | F26: =INDEX($Q$6:$AB$17, MATCH($A26, $N$5:$N$17, 1), MATCH(F$1, $Q$4:$AB$4, 0))/100 -> 0.4 | G26: =INDEX($Q$6:$AB$17, MATCH($A26, $N$5:$N$17, 1), MATCH(G$1, $Q$4:$AB$4, 0))/100 -> 0.4 | H26: =INDEX($Q$6:$AB$17, MATCH($A26, $N$5:$N$17, 1), MATCH(H$1, $Q$4:$AB$4, 0))/100 -> 0.3 | I26: =INDEX($Q$6:$AB$17, MATCH($A26, $N$5:$N$17, 1), MATCH(I$1, $Q$4:$AB$4, 0))/100 -> 0.4 | ... M26: =INDEX($Q$6:$AB$17, MATCH($A26, $N$5:$N$17, 1), MATCH(M$1, $Q$4:$AB$4, 0))/100 -> 0.22 | P26: 40 | Q26: 40
A27: 46 | B27: =INDEX($Q$6:$AB$17, MATCH($A27, $N$5:$N$17, 1), MATCH(B$1, $Q$4:$AB$4, 0))/100 -> 0.4 | C27: =INDEX($Q$6:$AB$17, MATCH($A27, $N$5:$N$17, 1), MATCH(C$1, $Q$4:$AB$4, 0))/100 -> 0.4 | D27: =INDEX($Q$6:$AB$17, MATCH($A27, $N$5:$N$17, 1), MATCH(D$1, $Q$4:$AB$4, 0))/100 -> 0.4 | E27: =INDEX($Q$6:$AB$17, MATCH($A27, $N$5:$N$17, 1), MATCH(E$1, $Q$4:$AB$4, 0))/100 -> 0.4 | F27: =INDEX($Q$6:$AB$17, MATCH($A27, $N$5:$N$17, 1), MATCH(F$1, $Q$4:$AB$4, 0))/100 -> 0.4 | G27: =INDEX($Q$6:$AB$17, MATCH($A27, $N$5:$N$17, 1), MATCH(G$1, $Q$4:$AB$4, 0))/100 -> 0.4 | H27: =INDEX($Q$6:$AB$17, MATCH($A27, $N$5:$N$17, 1), MATCH(H$1, $Q$4:$AB$4, 0))/100 -> 0.3 | I27: =INDEX($Q$6:$AB$17, MATCH($A27, $N$5:$N$17, 1), MATCH(I$1, $Q$4:$AB$4, 0))/100 -> 0.4 | ... M27: =INDEX($Q$6:$AB$17, MATCH($A27, $N$5:$N$17, 1), MATCH(M$1, $Q$4:$AB$4, 0))/100 -> 0.24 | P27: 40 | Q27: 40
A28: 47 | B28: =INDEX($Q$6:$AB$17, MATCH($A28, $N$5:$N$17, 1), MATCH(B$1, $Q$4:$AB$4, 0))/100 -> 0.4 | C28: =INDEX($Q$6:$AB$17, MATCH($A28, $N$5:$N$17, 1), MATCH(C$1, $Q$4:$AB$4, 0))/100 -> 0.4 | D28: =INDEX($Q$6:$AB$17, MATCH($A28, $N$5:$N$17, 1), MATCH(D$1, $Q$4:$AB$4, 0))/100 -> 0.4 | E28: =INDEX($Q$6:$AB$17, MATCH($A28, $N$5:$N$17, 1), MATCH(E$1, $Q$4:$AB$4, 0))/100 -> 0.4 | F28: =INDEX($Q$6:$AB$17, MATCH($A28, $N$5:$N$17, 1), MATCH(F$1, $Q$4:$AB$4, 0))/100 -> 0.4 | G28: =INDEX($Q$6:$AB$17, MATCH($A28, $N$5:$N$17, 1), MATCH(G$1, $Q$4:$AB$4, 0))/100 -> 0.4 | H28: =INDEX($Q$6:$AB$17, MATCH($A28, $N$5:$N$17, 1), MATCH(H$1, $Q$4:$AB$4, 0))/100 -> 0.3 | I28: =INDEX($Q$6:$AB$17, MATCH($A28, $N$5:$N$17, 1), MATCH(I$1, $Q$4:$AB$4, 0))/100 -> 0.4 | ... M28: =INDEX($Q$6:$AB$17, MATCH($A28, $N$5:$N$17, 1), MATCH(M$1, $Q$4:$AB$4, 0))/100 -> 0.24 | P28: 36 | Q28: 36
A29: 48 | B29: =INDEX($Q$6:$AB$17, MATCH($A29, $N$5:$N$17, 1), MATCH(B$1, $Q$4:$AB$4, 0))/100 -> 0.4 | C29: =INDEX($Q$6:$AB$17, MATCH($A29, $N$5:$N$17, 1), MATCH(C$1, $Q$4:$AB$4, 0))/100 -> 0.4 | D29: =INDEX($Q$6:$AB$17, MATCH($A29, $N$5:$N$17, 1), MATCH(D$1, $Q$4:$AB$4, 0))/100 -> 0.4 | E29: =INDEX($Q$6:$AB$17, MATCH($A29, $N$5:$N$17, 1), MATCH(E$1, $Q$4:$AB$4, 0))/100 -> 0.4 | F29: =INDEX($Q$6:$AB$17, MATCH($A29, $N$5:$N$17, 1), MATCH(F$1, $Q$4:$AB$4, 0))/100 -> 0.4 | G29: =INDEX($Q$6:$AB$17, MATCH($A29, $N$5:$N$17, 1), MATCH(G$1, $Q$4:$AB$4, 0))/100 -> 0.4 | H29: =INDEX($Q$6:$AB$17, MATCH($A29, $N$5:$N$17, 1), MATCH(H$1, $Q$4:$AB$4, 0))/100 -> 0.3 | I29: =INDEX($Q$6:$AB$17, MATCH($A29, $N$5:$N$17, 1), MATCH(I$1, $Q$4:$AB$4, 0))/100 -> 0.4 | ... M29: =INDEX($Q$6:$AB$17, MATCH($A29, $N$5:$N$17, 1), MATCH(M$1, $Q$4:$AB$4, 0))/100 -> 0.24 | P29: 32 | Q29: 32
A30: 49 | B30: =INDEX($Q$6:$AB$17, MATCH($A30, $N$5:$N$17, 1), MATCH(B$1, $Q$4:$AB$4, 0))/100 -> 0.4 | C30: =INDEX($Q$6:$AB$17, MATCH($A30, $N$5:$N$17, 1), MATCH(C$1, $Q$4:$AB$4, 0))/100 -> 0.4 | D30: =INDEX($Q$6:$AB$17, MATCH($A30, $N$5:$N$17, 1), MATCH(D$1, $Q$4:$AB$4, 0))/100 -> 0.4 | E30: =INDEX($Q$6:$AB$17, MATCH($A30, $N$5:$N$17, 1), MATCH(E$1, $Q$4:$AB$4, 0))/100 -> 0.4 | F30: =INDEX($Q$6:$AB$17, MATCH($A30, $N$5:$N$17, 1), MATCH(F$1, $Q$4:$AB$4, 0))/100 -> 0.4 | G30: =INDEX($Q$6:$AB$17, MATCH($A30, $N$5:$N$17, 1), MATCH(G$1, $Q$4:$AB$4, 0))/100 -> 0.4 | H30: =INDEX($Q$6:$AB$17, MATCH($A30, $N$5:$N$17, 1), MATCH(H$1, $Q$4:$AB$4, 0))/100 -> 0.3 | I30: =INDEX($Q$6:$AB$17, MATCH($A30, $N$5:$N$17, 1), MATCH(I$1, $Q$4:$AB$4, 0))/100 -> 0.4 | ... M30: =INDEX($Q$6:$AB$17, MATCH($A30, $N$5:$N$17, 1), MATCH(M$1, $Q$4:$AB$4, 0))/100 -> 0.24 | P30: 30 | Q30: 30
A31: 50 | B31: =INDEX($Q$6:$AB$17, MATCH($A31, $N$5:$N$17, 1), MATCH(B$1, $Q$4:$AB$4, 0))/100 -> 0.4 | C31: =INDEX($Q$6:$AB$17, MATCH($A31, $N$5:$N$17, 1), MATCH(C$1, $Q$4:$AB$4, 0))/100 -> 0.4 | D31: =INDEX($Q$6:$AB$17, MATCH($A31, $N$5:$N$17, 1), MATCH(D$1, $Q$4:$AB$4, 0))/100 -> 0.4 | E31: =INDEX($Q$6:$AB$17, MATCH($A31, $N$5:$N$17, 1), MATCH(E$1, $Q$4:$AB$4, 0))/100 -> 0.4 | F31: =INDEX($Q$6:$AB$17, MATCH($A31, $N$5:$N$17, 1), MATCH(F$1, $Q$4:$AB$4, 0))/100 -> 0.4 | G31: =INDEX($Q$6:$AB$17, MATCH($A31, $N$5:$N$17, 1), MATCH(G$1, $Q$4:$AB$4, 0))/100 -> 0.4 | H31: =INDEX($Q$6:$AB$17, MATCH($A31, $N$5:$N$17, 1), MATCH(H$1, $Q$4:$AB$4, 0))/100 -> 0.3 | I31: =INDEX($Q$6:$AB$17, MATCH($A31, $N$5:$N$17, 1), MATCH(I$1, $Q$4:$AB$4, 0))/100 -> 0.4 | ... M31: =INDEX($Q$6:$AB$17, MATCH($A31, $N$5:$N$17, 1), MATCH(M$1, $Q$4:$AB$4, 0))/100 -> 0.24 | P31: 25 | Q31: 25
A32: 51 | B32: =INDEX($Q$6:$AB$17, MATCH($A32, $N$5:$N$17, 1), MATCH(B$1, $Q$4:$AB$4, 0))/100 -> 0.36 | C32: =INDEX($Q$6:$AB$17, MATCH($A32, $N$5:$N$17, 1), MATCH(C$1, $Q$4:$AB$4, 0))/100 -> 0.36 | D32: =INDEX($Q$6:$AB$17, MATCH($A32, $N$5:$N$17, 1), MATCH(D$1, $Q$4:$AB$4, 0))/100 -> 0.36 | E32: =INDEX($Q$6:$AB$17, MATCH($A32, $N$5:$N$17, 1), MATCH(E$1, $Q$4:$AB$4, 0))/100 -> 0.36 | F32: =INDEX($Q$6:$AB$17, MATCH($A32, $N$5:$N$17, 1), MATCH(F$1, $Q$4:$AB$4, 0))/100 -> 0.36 | G32: =INDEX($Q$6:$AB$17, MATCH($A32, $N$5:$N$17, 1), MATCH(G$1, $Q$4:$AB$4, 0))/100 -> 0.36 | H32: =INDEX($Q$6:$AB$17, MATCH($A32, $N$5:$N$17, 1), MATCH(H$1, $Q$4:$AB$4, 0))/100 -> 0.28 | I32: =INDEX($Q$6:$AB$17, MATCH($A32, $N$5:$N$17, 1), MATCH(I$1, $Q$4:$AB$4, 0))/100 -> 0.36 | ... M32: =INDEX($Q$6:$AB$17, MATCH($A32, $N$5:$N$17, 1), MATCH(M$1, $Q$4:$AB$4, 0))/100 -> 0.24 | P32: 25 | Q32: 25
A33: 52 | B33: =INDEX($Q$6:$AB$17, MATCH($A33, $N$5:$N$17, 1), MATCH(B$1, $Q$4:$AB$4, 0))/100 -> 0.36 | C33: =INDEX($Q$6:$AB$17, MATCH($A33, $N$5:$N$17, 1), MATCH(C$1, $Q$4:$AB$4, 0))/100 -> 0.36 | D33: =INDEX($Q$6:$AB$17, MATCH($A33, $N$5:$N$17, 1), MATCH(D$1, $Q$4:$AB$4, 0))/100 -> 0.36 | E33: =INDEX($Q$6:$AB$17, MATCH($A33, $N$5:$N$17, 1), MATCH(E$1, $Q$4:$AB$4, 0))/100 -> 0.36 | F33: =INDEX($Q$6:$AB$17, MATCH($A33, $N$5:$N$17, 1), MATCH(F$1, $Q$4:$AB$4, 0))/100 -> 0.36 | G33: =INDEX($Q$6:$AB$17, MATCH($A33, $N$5:$N$17, 1), MATCH(G$1, $Q$4:$AB$4, 0))/100 -> 0.36 | H33: =INDEX($Q$6:$AB$17, MATCH($A33, $N$5:$N$17, 1), MATCH(H$1, $Q$4:$AB$4, 0))/100 -> 0.28 | I33: =INDEX($Q$6:$AB$17, MATCH($A33, $N$5:$N$17, 1), MATCH(I$1, $Q$4:$AB$4, 0))/100 -> 0.36 | ... M33: =INDEX($Q$6:$AB$17, MATCH($A33, $N$5:$N$17, 1), MATCH(M$1, $Q$4:$AB$4, 0))/100 -> 0.24 | P33: 0 | Q33: 25
A34: 53 | B34: =INDEX($Q$6:$AB$17, MATCH($A34, $N$5:$N$17, 1), MATCH(B$1, $Q$4:$AB$4, 0))/100 -> 0.36 | C34: =INDEX($Q$6:$AB$17, MATCH($A34, $N$5:$N$17, 1), MATCH(C$1, $Q$4:$AB$4, 0))/100 -> 0.36 | D34: =INDEX($Q$6:$AB$17, MATCH($A34, $N$5:$N$17, 1), MATCH(D$1, $Q$4:$AB$4, 0))/100 -> 0.36 | E34: =INDEX($Q$6:$AB$17, MATCH($A34, $N$5:$N$17, 1), MATCH(E$1, $Q$4:$AB$4, 0))/100 -> 0.36 | F34: =INDEX($Q$6:$AB$17, MATCH($A34, $N$5:$N$17, 1), MATCH(F$1, $Q$4:$AB$4, 0))/100 -> 0.36 | G34: =INDEX($Q$6:$AB$17, MATCH($A34, $N$5:$N$17, 1), MATCH(G$1, $Q$4:$AB$4, 0))/100 -> 0.36 | H34: =INDEX($Q$6:$AB$17, MATCH($A34, $N$5:$N$17, 1), MATCH(H$1, $Q$4:$AB$4, 0))/100 -> 0.28 | I34: =INDEX($Q$6:$AB$17, MATCH($A34, $N$5:$N$17, 1), MATCH(I$1, $Q$4:$AB$4, 0))/100 -> 0.36 | ... M34: =INDEX($Q$6:$AB$17, MATCH($A34, $N$5:$N$17, 1), MATCH(M$1, $Q$4:$AB$4, 0))/100 -> 0.24
A35: 54 | B35: =INDEX($Q$6:$AB$17, MATCH($A35, $N$5:$N$17, 1), MATCH(B$1, $Q$4:$AB$4, 0))/100 -> 0.36 | C35: =INDEX($Q$6:$AB$17, MATCH($A35, $N$5:$N$17, 1), MATCH(C$1, $Q$4:$AB$4, 0))/100 -> 0.36 | D35: =INDEX($Q$6:$AB$17, MATCH($A35, $N$5:$N$17, 1), MATCH(D$1, $Q$4:$AB$4, 0))/100 -> 0.36 | E35: =INDEX($Q$6:$AB$17, MATCH($A35, $N$5:$N$17, 1), MATCH(E$1, $Q$4:$AB$4, 0))/100 -> 0.36 | F35: =INDEX($Q$6:$AB$17, MATCH($A35, $N$5:$N$17, 1), MATCH(F$1, $Q$4:$AB$4, 0))/100 -> 0.36 | G35: =INDEX($Q$6:$AB$17, MATCH($A35, $N$5:$N$17, 1), MATCH(G$1, $Q$4:$AB$4, 0))/100 -> 0.36 | H35: =INDEX($Q$6:$AB$17, MATCH($A35, $N$5:$N$17, 1), MATCH(H$1, $Q$4:$AB$4, 0))/100 -> 0.28 | I35: =INDEX($Q$6:$AB$17, MATCH($A35, $N$5:$N$17, 1), MATCH(I$1, $Q$4:$AB$4, 0))/100 -> 0.36 | ... M35: =INDEX($Q$6:$AB$17, MATCH($A35, $N$5:$N$17, 1), MATCH(M$1, $Q$4:$AB$4, 0))/100 -> 0.24
A36: 55 | B36: =INDEX($Q$6:$AB$17, MATCH($A36, $N$5:$N$17, 1), MATCH(B$1, $Q$4:$AB$4, 0))/100 -> 0.36 | C36: =INDEX($Q$6:$AB$17, MATCH($A36, $N$5:$N$17, 1), MATCH(C$1, $Q$4:$AB$4, 0))/100 -> 0.36 | D36: =INDEX($Q$6:$AB$17, MATCH($A36, $N$5:$N$17, 1), MATCH(D$1, $Q$4:$AB$4, 0))/100 -> 0.36 | E36: =INDEX($Q$6:$AB$17, MATCH($A36, $N$5:$N$17, 1), MATCH(E$1, $Q$4:$AB$4, 0))/100 -> 0.36 | F36: =INDEX($Q$6:$AB$17, MATCH($A36, $N$5:$N$17, 1), MATCH(F$1, $Q$4:$AB$4, 0))/100 -> 0.36 | G36: =INDEX($Q$6:$AB$17, MATCH($A36, $N$5:$N$17, 1), MATCH(G$1, $Q$4:$AB$4, 0))/100 -> 0.36 | H36: =INDEX($Q$6:$AB$17, MATCH($A36, $N$5:$N$17, 1), MATCH(H$1, $Q$4:$AB$4, 0))/100 -> 0.28 | I36: =INDEX($Q$6:$AB$17, MATCH($A36, $N$5:$N$17, 1), MATCH(I$1, $Q$4:$AB$4, 0))/100 -> 0.36 | ... M36: =INDEX($Q$6:$AB$17, MATCH($A36, $N$5:$N$17, 1), MATCH(M$1, $Q$4:$AB$4, 0))/100 -> 0.24
A37: 56 | B37: =INDEX($Q$6:$AB$17, MATCH($A37, $N$5:$N$17, 1), MATCH(B$1, $Q$4:$AB$4, 0))/100 -> 0.32 | C37: =INDEX($Q$6:$AB$17, MATCH($A37, $N$5:$N$17, 1), MATCH(C$1, $Q$4:$AB$4, 0))/100 -> 0.32 | D37: =INDEX($Q$6:$AB$17, MATCH($A37, $N$5:$N$17, 1), MATCH(D$1, $Q$4:$AB$4, 0))/100 -> 0.32 | E37: =INDEX($Q$6:$AB$17, MATCH($A37, $N$5:$N$17, 1), MATCH(E$1, $Q$4:$AB$4, 0))/100 -> 0.32 | F37: =INDEX($Q$6:$AB$17, MATCH($A37, $N$5:$N$17, 1), MATCH(F$1, $Q$4:$AB$4, 0))/100 -> 0.32 | G37: =INDEX($Q$6:$AB$17, MATCH($A37, $N$5:$N$17, 1), MATCH(G$1, $Q$4:$AB$4, 0))/100 -> 0.32 | H37: =INDEX($Q$6:$AB$17, MATCH($A37, $N$5:$N$17, 1), MATCH(H$1, $Q$4:$AB$4, 0))/100 -> 0.26 | I37: =INDEX($Q$6:$AB$17, MATCH($A37, $N$5:$N$17, 1), MATCH(I$1, $Q$4:$AB$4, 0))/100 -> 0.32 | ... M37: =INDEX($Q$6:$AB$17, MATCH($A37, $N$5:$N$17, 1), MATCH(M$1, $Q$4:$AB$4, 0))/100 -> 0.22
A38: 57 | B38: =INDEX($Q$6:$AB$17, MATCH($A38, $N$5:$N$17, 1), MATCH(B$1, $Q$4:$AB$4, 0))/100 -> 0.32 | C38: =INDEX($Q$6:$AB$17, MATCH($A38, $N$5:$N$17, 1), MATCH(C$1, $Q$4:$AB$4, 0))/100 -> 0.32 | D38: =INDEX($Q$6:$AB$17, MATCH($A38, $N$5:$N$17, 1), MATCH(D$1, $Q$4:$AB$4, 0))/100 -> 0.32 | E38: =INDEX($Q$6:$AB$17, MATCH($A38, $N$5:$N$17, 1), MATCH(E$1, $Q$4:$AB$4, 0))/100 -> 0.32 | F38: =INDEX($Q$6:$AB$17, MATCH($A38, $N$5:$N$17, 1), MATCH(F$1, $Q$4:$AB$4, 0))/100 -> 0.32 | G38: =INDEX($Q$6:$AB$17, MATCH($A38, $N$5:$N$17, 1), MATCH(G$1, $Q$4:$AB$4, 0))/100 -> 0.32 | H38: =INDEX($Q$6:$AB$17, MATCH($A38, $N$5:$N$17, 1), MATCH(H$1, $Q$4:$AB$4, 0))/100 -> 0.26 | I38: =INDEX($Q$6:$AB$17, MATCH($A38, $N$5:$N$17, 1), MATCH(I$1, $Q$4:$AB$4, 0))/100 -> 0.32 | ... M38: =INDEX($Q$6:$AB$17, MATCH($A38, $N$5:$N$17, 1), MATCH(M$1, $Q$4:$AB$4, 0))/100 -> 0.22
A39: 58 | B39: =INDEX($Q$6:$AB$17, MATCH($A39, $N$5:$N$17, 1), MATCH(B$1, $Q$4:$AB$4, 0))/100 -> 0.32 | C39: =INDEX($Q$6:$AB$17, MATCH($A39, $N$5:$N$17, 1), MATCH(C$1, $Q$4:$AB$4, 0))/100 -> 0.32 | D39: =INDEX($Q$6:$AB$17, MATCH($A39, $N$5:$N$17, 1), MATCH(D$1, $Q$4:$AB$4, 0))/100 -> 0.32 | E39: =INDEX($Q$6:$AB$17, MATCH($A39, $N$5:$N$17, 1), MATCH(E$1, $Q$4:$AB$4, 0))/100 -> 0.32 | F39: =INDEX($Q$6:$AB$17, MATCH($A39, $N$5:$N$17, 1), MATCH(F$1, $Q$4:$AB$4, 0))/100 -> 0.32 | G39: =INDEX($Q$6:$AB$17, MATCH($A39, $N$5:$N$17, 1), MATCH(G$1, $Q$4:$AB$4, 0))/100 -> 0.32 | H39: =INDEX($Q$6:$AB$17, MATCH($A39, $N$5:$N$17, 1), MATCH(H$1, $Q$4:$AB$4, 0))/100 -> 0.26 | I39: =INDEX($Q$6:$AB$17, MATCH($A39, $N$5:$N$17, 1), MATCH(I$1, $Q$4:$AB$4, 0))/100 -> 0.32 | ... M39: =INDEX($Q$6:$AB$17, MATCH($A39, $N$5:$N$17, 1), MATCH(M$1, $Q$4:$AB$4, 0))/100 -> 0.22
A40: 59 | B40: =INDEX($Q$6:$AB$17, MATCH($A40, $N$5:$N$17, 1), MATCH(B$1, $Q$4:$AB$4, 0))/100 -> 0.32 | C40: =INDEX($Q$6:$AB$17, MATCH($A40, $N$5:$N$17, 1), MATCH(C$1, $Q$4:$AB$4, 0))/100 -> 0.32 | D40: =INDEX($Q$6:$AB$17, MATCH($A40, $N$5:$N$17, 1), MATCH(D$1, $Q$4:$AB$4, 0))/100 -> 0.32 | E40: =INDEX($Q$6:$AB$17, MATCH($A40, $N$5:$N$17, 1), MATCH(E$1, $Q$4:$AB$4, 0))/100 -> 0.32 | F40: =INDEX($Q$6:$AB$17, MATCH($A40, $N$5:$N$17, 1), MATCH(F$1, $Q$4:$AB$4, 0))/100 -> 0.32 | G40: =INDEX($Q$6:$AB$17, MATCH($A40, $N$5:$N$17, 1), MATCH(G$1, $Q$4:$AB$4, 0))/100 -> 0.32 | H40: =INDEX($Q$6:$AB$17, MATCH($A40, $N$5:$N$17, 1), MATCH(H$1, $Q$4:$AB$4, 0))/100 -> 0.26 | I40: =INDEX($Q$6:$AB$17, MATCH($A40, $N$5:$N$17, 1), MATCH(I$1, $Q$4:$AB$4, 0))/100 -> 0.32 | ... M40: =INDEX($Q$6:$AB$17, MATCH($A40, $N$5:$N$17, 1), MATCH(M$1, $Q$4:$AB$4, 0))/100 -> 0.22
...

Sheet Documentation
A1: SUN LIFE FINANCIAL
A2: LTCI Premium Recovery Tool
A3: Helping you demonstrate the value of LTCI coverage.
A4: Documentation
A6: A | B6: PURPOSE:
B7: 1 | C7: This Premium Recovery Tool is designed to help advisors demonstrate the value of the policyholder's LTCI coverage even after experiencing the premium increase.
B9: 2 | C9: The tool is intended for demonstration only. It is not an illustration, an insurance contract, or an offer to provide insurance. It does not form part of any policy that may be issued and is not intended to provide or replace professional legal or tax advice.
A11: B | B11: FUNCTIONALITY:
B12: 1 | C12: The tool provides demonstration based on very few simple inputs and output summary. The tool is developed on MS Excel. The results can be saved in a PDF file.
B14: 2 | C14: The tool first calculates the prospective premiums. Then, it shows that it does not take long while receiving the LTCI benefits to recover paid premiums by calculating the premium recovery period.
B16: 3 | C16: The results presented in the 'Results' tab will only be useful if appropriate information is entered in the input fields. The content of your copy of the policyholder letter should be used to complete the tool input.
A18: C | B18: ASSUMPTIONS:
C19: The tool uses various simplifying assumptions to make the input fields easier to complete and calculations easier to perform and communicate. None of the values presented in this tool are guaranteed. Significant assumptions are included in the Tool Results. For the sake of completeness, these are listed below:
B21: 1 | C21: Weekly Benefit: If your policy includes both a "Facility Care" benefit and a "Comprehensive Care" benefit, we have used only the value of the comprehensive weekly benefit to estimate the premium recovery because we cannot predict at what point facility care would be elected.
B23: 2 | C23: Estimated Premiums Paid: To estimate the premiums paid prior to the premium increase effective date we have assumed you have paid all required premiums to date and have not had premiums waived at any time.
B25: 3 | C25: Estimated Total Premiums Paid: The estimate of total premiums paid before you claim: - Includes premiums paid for benefits such as return of premium on death (ROPD) and inflation protection benefit. - Assumes premiums do not change in the future.
B27: 4 | C27: Estimated Premium Recovery Period: To estimate the premium recovery period we have assumed: - No weekly benefits have been paid. - Premiums do not change in the future. - The weekly benefit amount has not been increased because of Inflation Protection benefits. - The calculation does not take into consideration the time value of money (potential investment income).
